BEGIN:VCALENDAR
VERSION:2.0
PRODID:-//SpacePolicyOnline.com - ECPv6.15.11//NONSGML v1.0//EN
CALSCALE:GREGORIAN
METHOD:PUBLISH
X-WR-CALNAME:SpacePolicyOnline.com
X-ORIGINAL-URL:https://spacepolicyonline.com
X-WR-CALDESC:Events for SpacePolicyOnline.com
REFRESH-INTERVAL;VALUE=DURATION:PT1H
X-Robots-Tag:noindex
X-PUBLISHED-TTL:PT1H
BEGIN:VTIMEZONE
TZID:America/New_York
BEGIN:DAYLIGHT
TZOFFSETFROM:-0500
TZOFFSETTO:-0400
TZNAME:EDT
DTSTART:20190310T070000
END:DAYLIGHT
BEGIN:STANDARD
TZOFFSETFROM:-0400
TZOFFSETTO:-0500
TZNAME:EST
DTSTART:20191103T060000
END:STANDARD
BEGIN:DAYLIGHT
TZOFFSETFROM:-0500
TZOFFSETTO:-0400
TZNAME:EDT
DTSTART:20200308T070000
END:DAYLIGHT
BEGIN:STANDARD
TZOFFSETFROM:-0400
TZOFFSETTO:-0500
TZNAME:EST
DTSTART:20201101T060000
END:STANDARD
BEGIN:DAYLIGHT
TZOFFSETFROM:-0500
TZOFFSETTO:-0400
TZNAME:EDT
DTSTART:20210314T070000
END:DAYLIGHT
BEGIN:STANDARD
TZOFFSETFROM:-0400
TZOFFSETTO:-0500
TZNAME:EST
DTSTART:20211107T060000
END:STANDARD
END:VTIMEZONE
BEGIN:VEVENT
DTSTART;TZID=America/New_York:20200211T080000
DTEND;TZID=America/New_York:20200213T230000
DTSTAMP:20260424T130045
CREATED:20200125T151605Z
LAST-MODIFIED:20200125T151605Z
UID:31809-1581408000-1581634800@spacepolicyonline.com
SUMMARY:AUSTRALIAN SSA & STM CONFERENCE 2020\, Feb 11-13\, 2020\, Canberra\, Australia
DESCRIPTION:UNSW Canberra at the Australian Defence Academy in Canberra\, Australia will sponsor the Australian Space Situational Awareness and Space Traffic Management Conference from February 11-13\, 2020. \nMore information is on the event’s website.
URL:https://spacepolicyonline.com/events/australian-ssa-stm-conference-2020-feb-11-13-2020-canberra-australia/
END:VEVENT
END:VCALENDAR