BEGIN:VCALENDAR
VERSION:2.0
PRODID:-//SpacePolicyOnline.com - ECPv6.15.11//NONSGML v1.0//EN
CALSCALE:GREGORIAN
METHOD:PUBLISH
X-WR-CALNAME:SpacePolicyOnline.com
X-ORIGINAL-URL:https://spacepolicyonline.com
X-WR-CALDESC:Events for SpacePolicyOnline.com
REFRESH-INTERVAL;VALUE=DURATION:PT1H
X-Robots-Tag:noindex
X-PUBLISHED-TTL:PT1H
BEGIN:VTIMEZONE
TZID:America/New_York
BEGIN:DAYLIGHT
TZOFFSETFROM:-0500
TZOFFSETTO:-0400
TZNAME:EDT
DTSTART:20160313T070000
END:DAYLIGHT
BEGIN:STANDARD
TZOFFSETFROM:-0400
TZOFFSETTO:-0500
TZNAME:EST
DTSTART:20161106T060000
END:STANDARD
BEGIN:DAYLIGHT
TZOFFSETFROM:-0500
TZOFFSETTO:-0400
TZNAME:EDT
DTSTART:20170312T070000
END:DAYLIGHT
BEGIN:STANDARD
TZOFFSETFROM:-0400
TZOFFSETTO:-0500
TZNAME:EST
DTSTART:20171105T060000
END:STANDARD
BEGIN:DAYLIGHT
TZOFFSETFROM:-0500
TZOFFSETTO:-0400
TZNAME:EDT
DTSTART:20180311T070000
END:DAYLIGHT
BEGIN:STANDARD
TZOFFSETFROM:-0400
TZOFFSETTO:-0500
TZNAME:EST
DTSTART:20181104T060000
END:STANDARD
END:VTIMEZONE
BEGIN:VEVENT
DTSTART;TZID=America/New_York:20171012T000000
DTEND;TZID=America/New_York:20171013T000000
DTSTAMP:20260422T195141
CREATED:20170727T114440Z
LAST-MODIFIED:20171008T144418Z
UID:8322-1507766400-1507852800@spacepolicyonline.com
SUMMARY:BACK TO THE MOON WORKSHOP\, Oct 12-13\, 2017\, Columbia\, MD
DESCRIPTION:A “Back to the Moon” workshop will be held October 12-13\, 2017 in Columbia\, MD in conjunction with the meeting of the Lunar Exploration Analysis Group (LEAG). \nThe one-and-a-half day workshop begins at 1:30 pm ET on October 12 and ends at 5:00 pm ET on October 13. \nMore information on the workshop is on the event’s website.
URL:https://spacepolicyonline.com/events/back-to-the-moon-workshop-oct-2017-columbia-md/
END:VEVENT
END:VCALENDAR