BEGIN:VCALENDAR
VERSION:2.0
PRODID:-//SpacePolicyOnline.com - ECPv6.15.11//NONSGML v1.0//EN
CALSCALE:GREGORIAN
METHOD:PUBLISH
X-WR-CALNAME:SpacePolicyOnline.com
X-ORIGINAL-URL:https://spacepolicyonline.com
X-WR-CALDESC:Events for SpacePolicyOnline.com
REFRESH-INTERVAL;VALUE=DURATION:PT1H
X-Robots-Tag:noindex
X-PUBLISHED-TTL:PT1H
BEGIN:VTIMEZONE
TZID:America/New_York
BEGIN:DAYLIGHT
TZOFFSETFROM:-0500
TZOFFSETTO:-0400
TZNAME:EDT
DTSTART:20210314T070000
END:DAYLIGHT
BEGIN:STANDARD
TZOFFSETFROM:-0400
TZOFFSETTO:-0500
TZNAME:EST
DTSTART:20211107T060000
END:STANDARD
BEGIN:DAYLIGHT
TZOFFSETFROM:-0500
TZOFFSETTO:-0400
TZNAME:EDT
DTSTART:20220313T070000
END:DAYLIGHT
BEGIN:STANDARD
TZOFFSETFROM:-0400
TZOFFSETTO:-0500
TZNAME:EST
DTSTART:20221106T060000
END:STANDARD
BEGIN:DAYLIGHT
TZOFFSETFROM:-0500
TZOFFSETTO:-0400
TZNAME:EDT
DTSTART:20230312T070000
END:DAYLIGHT
BEGIN:STANDARD
TZOFFSETFROM:-0400
TZOFFSETTO:-0500
TZNAME:EST
DTSTART:20231105T060000
END:STANDARD
END:VTIMEZONE
BEGIN:VEVENT
DTSTART;TZID=America/New_York:20221026T103000
DTEND;TZID=America/New_York:20221026T230000
DTSTAMP:20260423T212912
CREATED:20221007T211116Z
LAST-MODIFIED:20221007T211116Z
UID:56845-1666780200-1666825200@spacepolicyonline.com
SUMMARY:BOEING 3Q2022 FINANCIAL EARNINGS TELECON\, Oct 26\, 2022\, virtual\, 10:30 am ET
DESCRIPTION:Boeing will hold its 3Q2022 financial earnings telecon on October 26\, 2022 at 10:30 am ET.  It will be webcast on the company’s website. \nParticipants are: \n\nPresident and Chief Executive Officer David Calhoun and\nExecutive Vice President and Chief Financial Officer Brian West
URL:https://spacepolicyonline.com/events/boeing-3q2022-financial-earnings-telecon-oct-26-2022-virtual-1030-am-et/
END:VEVENT
END:VCALENDAR