BEGIN:VCALENDAR
VERSION:2.0
PRODID:-//SpacePolicyOnline.com - ECPv6.15.11//NONSGML v1.0//EN
CALSCALE:GREGORIAN
METHOD:PUBLISH
X-WR-CALNAME:SpacePolicyOnline.com
X-ORIGINAL-URL:https://spacepolicyonline.com
X-WR-CALDESC:Events for SpacePolicyOnline.com
REFRESH-INTERVAL;VALUE=DURATION:PT1H
X-Robots-Tag:noindex
X-PUBLISHED-TTL:PT1H
BEGIN:VTIMEZONE
TZID:America/New_York
BEGIN:DAYLIGHT
TZOFFSETFROM:-0500
TZOFFSETTO:-0400
TZNAME:EDT
DTSTART:20180311T070000
END:DAYLIGHT
BEGIN:STANDARD
TZOFFSETFROM:-0400
TZOFFSETTO:-0500
TZNAME:EST
DTSTART:20181104T060000
END:STANDARD
BEGIN:DAYLIGHT
TZOFFSETFROM:-0500
TZOFFSETTO:-0400
TZNAME:EDT
DTSTART:20190310T070000
END:DAYLIGHT
BEGIN:STANDARD
TZOFFSETFROM:-0400
TZOFFSETTO:-0500
TZNAME:EST
DTSTART:20191103T060000
END:STANDARD
BEGIN:DAYLIGHT
TZOFFSETFROM:-0500
TZOFFSETTO:-0400
TZNAME:EDT
DTSTART:20200308T070000
END:DAYLIGHT
BEGIN:STANDARD
TZOFFSETFROM:-0400
TZOFFSETTO:-0500
TZNAME:EST
DTSTART:20201101T060000
END:STANDARD
END:VTIMEZONE
BEGIN:VEVENT
DTSTART;TZID=America/New_York:20190916T113000
DTEND;TZID=America/New_York:20190916T230000
DTSTAMP:20260422T111128
CREATED:20190915T173501Z
LAST-MODIFIED:20190915T173501Z
UID:28922-1568633400-1568674800@spacepolicyonline.com
SUMMARY:BRAD PITT SPEAKS WITH ISS CREW MEMBER NICK HAGUE\, Sept 16\, 2019\, DC/Earth Orbit\, 11:35 am ET (webcast)
DESCRIPTION:Actor Brad Pitt\, who is starring the science fiction film Ad Astra that will open in theaters this week\, will speak with NASA astronaut Nick Hague\, who is aboard the International Space Station\, at 11:35 am ET on September 16\, 2019. \nNASA will air the discussion on NASA TV and NASA Live.
URL:https://spacepolicyonline.com/events/brad-pitt-speaks-with-iss-crew-member-nick-hague-sept-16-2019-dc-earth-orbit-1135-am-et-webcast/
END:VEVENT
END:VCALENDAR