BEGIN:VCALENDAR
VERSION:2.0
PRODID:-//SpacePolicyOnline.com - ECPv6.15.11//NONSGML v1.0//EN
CALSCALE:GREGORIAN
METHOD:PUBLISH
X-WR-CALNAME:SpacePolicyOnline.com
X-ORIGINAL-URL:https://spacepolicyonline.com
X-WR-CALDESC:Events for SpacePolicyOnline.com
REFRESH-INTERVAL;VALUE=DURATION:PT1H
X-Robots-Tag:noindex
X-PUBLISHED-TTL:PT1H
BEGIN:VTIMEZONE
TZID:America/New_York
BEGIN:DAYLIGHT
TZOFFSETFROM:-0500
TZOFFSETTO:-0400
TZNAME:EDT
DTSTART:20190310T070000
END:DAYLIGHT
BEGIN:STANDARD
TZOFFSETFROM:-0400
TZOFFSETTO:-0500
TZNAME:EST
DTSTART:20191103T060000
END:STANDARD
BEGIN:DAYLIGHT
TZOFFSETFROM:-0500
TZOFFSETTO:-0400
TZNAME:EDT
DTSTART:20200308T070000
END:DAYLIGHT
BEGIN:STANDARD
TZOFFSETFROM:-0400
TZOFFSETTO:-0500
TZNAME:EST
DTSTART:20201101T060000
END:STANDARD
BEGIN:DAYLIGHT
TZOFFSETFROM:-0500
TZOFFSETTO:-0400
TZNAME:EDT
DTSTART:20210314T070000
END:DAYLIGHT
BEGIN:STANDARD
TZOFFSETFROM:-0400
TZOFFSETTO:-0500
TZNAME:EST
DTSTART:20211107T060000
END:STANDARD
END:VTIMEZONE
BEGIN:VEVENT
DTSTART;TZID=America/New_York:20201216T100000
DTEND;TZID=America/New_York:20201216T230000
DTSTAMP:20260419T100037
CREATED:20201215T163836Z
LAST-MODIFIED:20201215T163903Z
UID:39947-1608112800-1608159600@spacepolicyonline.com
SUMMARY:CANADIAN SPACE AGENCY PRESS CONFERENCE\, Dec 16\, 2020\, virtual\, 10:00 am ET
DESCRIPTION:The Canadian Space Agency (CSA) will hold a press conference on December 16\, 2020 at 10:00 am ET to make a “major announcement on the future of Canadian space exploration.” \nThe event will be streamed on the CSA‘s YouTube channel and Facebook page. \nParticipants include the four active Canadian astronauts so presumably concerns Canadian participation in the NASA-led human exploration program  NASA recently designated 18 NASA astronauts as members of the “Artemis Team” or Artemis Cadre that will be assigned to trips to the Moon\, including to land there.  International astronauts are expected to be similarly designated. \nThe participants are: \n\nHonourable Navdeep Bains\, Minister of Innovation\, Science and Industry\nCanadian Space Agency (CSA) President Lisa Campbell\nCSA astronauts\n\nJeremy Hansen\,\nJoshua Kutryk\,\nDavid Saint-Jacques and\nJenni Sidey-Gibbons
URL:https://spacepolicyonline.com/events/canadian-space-agency-press-conference-dec-16-2020-virtual-1000-am-et/
END:VEVENT
END:VCALENDAR