BEGIN:VCALENDAR
VERSION:2.0
PRODID:-//SpacePolicyOnline.com - ECPv6.15.11//NONSGML v1.0//EN
CALSCALE:GREGORIAN
METHOD:PUBLISH
X-WR-CALNAME:SpacePolicyOnline.com
X-ORIGINAL-URL:https://spacepolicyonline.com
X-WR-CALDESC:Events for SpacePolicyOnline.com
REFRESH-INTERVAL;VALUE=DURATION:PT1H
X-Robots-Tag:noindex
X-PUBLISHED-TTL:PT1H
BEGIN:VTIMEZONE
TZID:America/New_York
BEGIN:DAYLIGHT
TZOFFSETFROM:-0500
TZOFFSETTO:-0400
TZNAME:EDT
DTSTART:20220313T070000
END:DAYLIGHT
BEGIN:STANDARD
TZOFFSETFROM:-0400
TZOFFSETTO:-0500
TZNAME:EST
DTSTART:20221106T060000
END:STANDARD
BEGIN:DAYLIGHT
TZOFFSETFROM:-0500
TZOFFSETTO:-0400
TZNAME:EDT
DTSTART:20230312T070000
END:DAYLIGHT
BEGIN:STANDARD
TZOFFSETFROM:-0400
TZOFFSETTO:-0500
TZNAME:EST
DTSTART:20231105T060000
END:STANDARD
BEGIN:DAYLIGHT
TZOFFSETFROM:-0500
TZOFFSETTO:-0400
TZNAME:EDT
DTSTART:20240310T070000
END:DAYLIGHT
BEGIN:STANDARD
TZOFFSETFROM:-0400
TZOFFSETTO:-0500
TZNAME:EST
DTSTART:20241103T060000
END:STANDARD
END:VTIMEZONE
BEGIN:VEVENT
DTSTART;TZID=America/New_York:20230128T070000
DTEND;TZID=America/New_York:20230129T230000
DTSTAMP:20260422T083736
CREATED:20221228T201210Z
LAST-MODIFIED:20221228T201223Z
UID:58952-1674889200-1675033200@spacepolicyonline.com
SUMMARY:CANADIAN SPACE WEEK (SEDS-CANADA)\, Jan 28-29\, 2023\, Montreal
DESCRIPTION:Canadian Space Week\, Canada’s annual student space conference hosted by SEDS-Canada and PolyOrbite\, will take place at the Polytechnique Montréal in Québec in Montreal\, Quebec\, Canada from January 28-29\, 2023. \nThe theme is “Space Through the Looking Glass.” \nMore information is on the event’s website\, which says: \nThe Canadian Space Conference is an annual space conference run by SEDS Canada\, co-hosted this year by PolyOrbite. At the conference\, you can learn all about the opportunities in space and all the possible innovations by bringing together students\, researchers and industry professionals. The conference attempts to close the gap between industry and students by creating a place for students to find their own place in Canada’s space industry. \nThe theme of the conference is Space Through the Looking Glass\, in recognition of the historic scientific achievement of humanity’s launch of the James Webb Telescope\, as a collaboration between NASA\, the European Space Agency\, and the Canadian Space Agency. \nAttendees will have the opportunity to network and listen to fascinating talks from researchers and industry professionals on space development. Events include booths\, presentations from industry & academic experts\, panel discussions\, workshops\, and poster presentations. You can also apply to participate in the YSpacE case competition. This year’s conference will be hosted at Polytechnique Montréal in Québec from January 28–29. \n 
URL:https://spacepolicyonline.com/events/canadian-space-week-seds-canada-jan-28-29-2023-montreal/
END:VEVENT
END:VCALENDAR