BEGIN:VCALENDAR
VERSION:2.0
PRODID:-//SpacePolicyOnline.com - ECPv6.15.11//NONSGML v1.0//EN
CALSCALE:GREGORIAN
METHOD:PUBLISH
X-WR-CALNAME:SpacePolicyOnline.com
X-ORIGINAL-URL:https://spacepolicyonline.com
X-WR-CALDESC:Events for SpacePolicyOnline.com
REFRESH-INTERVAL;VALUE=DURATION:PT1H
X-Robots-Tag:noindex
X-PUBLISHED-TTL:PT1H
BEGIN:VTIMEZONE
TZID:America/New_York
BEGIN:DAYLIGHT
TZOFFSETFROM:-0500
TZOFFSETTO:-0400
TZNAME:EDT
DTSTART:20230312T070000
END:DAYLIGHT
BEGIN:STANDARD
TZOFFSETFROM:-0400
TZOFFSETTO:-0500
TZNAME:EST
DTSTART:20231105T060000
END:STANDARD
BEGIN:DAYLIGHT
TZOFFSETFROM:-0500
TZOFFSETTO:-0400
TZNAME:EDT
DTSTART:20240310T070000
END:DAYLIGHT
BEGIN:STANDARD
TZOFFSETFROM:-0400
TZOFFSETTO:-0500
TZNAME:EST
DTSTART:20241103T060000
END:STANDARD
BEGIN:DAYLIGHT
TZOFFSETFROM:-0500
TZOFFSETTO:-0400
TZNAME:EDT
DTSTART:20250309T070000
END:DAYLIGHT
BEGIN:STANDARD
TZOFFSETFROM:-0400
TZOFFSETTO:-0500
TZNAME:EST
DTSTART:20251102T060000
END:STANDARD
END:VTIMEZONE
BEGIN:VEVENT
DTSTART;TZID=America/New_York:20240220T080000
DTEND;TZID=America/New_York:20240220T230000
DTSTAMP:20260419T125052
CREATED:20240204T154306Z
LAST-MODIFIED:20240218T194514Z
UID:68510-1708416000-1708470000@spacepolicyonline.com
SUMMARY:CAPS MEETING 2 ON REVIEW OF NEW FRONTIERS MISSION LIST (Natl Acad)\, Feb 20\, 2024\, virtual
DESCRIPTION:The Committee on Astrobiology and Planetary Science (CAPS) of the National Academies of Sciences\, Engineering\, and Medicine will hold its second meeting to discuss their review of the New Frontiers Mission List on February 20\, 2024 (the first is on February 13). \nThe meeting is virtual. The only open session\, from 10:30-11:30 am ET\, will be livestreamed.  The CAPS committee will hear from the co-chairs of the most recent planetary science Decadal Survey\, Robin Canup and Phil Christensen. \nMore information\, including the agenda and livestream link\, is on the event’s website.
URL:https://spacepolicyonline.com/events/caps-meeting-2-on-review-of-new-frontiers-mission-list-natl-acad-feb-20-2024-virtual/
END:VEVENT
END:VCALENDAR