BEGIN:VCALENDAR
VERSION:2.0
PRODID:-//SpacePolicyOnline.com - ECPv6.15.11//NONSGML v1.0//EN
CALSCALE:GREGORIAN
METHOD:PUBLISH
X-WR-CALNAME:SpacePolicyOnline.com
X-ORIGINAL-URL:https://spacepolicyonline.com
X-WR-CALDESC:Events for SpacePolicyOnline.com
REFRESH-INTERVAL;VALUE=DURATION:PT1H
X-Robots-Tag:noindex
X-PUBLISHED-TTL:PT1H
BEGIN:VTIMEZONE
TZID:America/New_York
BEGIN:DAYLIGHT
TZOFFSETFROM:-0500
TZOFFSETTO:-0400
TZNAME:EDT
DTSTART:20180311T070000
END:DAYLIGHT
BEGIN:STANDARD
TZOFFSETFROM:-0400
TZOFFSETTO:-0500
TZNAME:EST
DTSTART:20181104T060000
END:STANDARD
BEGIN:DAYLIGHT
TZOFFSETFROM:-0500
TZOFFSETTO:-0400
TZNAME:EDT
DTSTART:20190310T070000
END:DAYLIGHT
BEGIN:STANDARD
TZOFFSETFROM:-0400
TZOFFSETTO:-0500
TZNAME:EST
DTSTART:20191103T060000
END:STANDARD
BEGIN:DAYLIGHT
TZOFFSETFROM:-0500
TZOFFSETTO:-0400
TZNAME:EDT
DTSTART:20200308T070000
END:DAYLIGHT
BEGIN:STANDARD
TZOFFSETFROM:-0400
TZOFFSETTO:-0500
TZNAME:EST
DTSTART:20201101T060000
END:STANDARD
END:VTIMEZONE
BEGIN:VEVENT
DTSTART;TZID=America/New_York:20191019T080000
DTEND;TZID=America/New_York:20191019T230000
DTSTAMP:20260420T020238
CREATED:20190913T204812Z
LAST-MODIFIED:20191013T174823Z
UID:28867-1571472000-1571526000@spacepolicyonline.com
SUMMARY:CELEBRATING THE SCIENTIFIC LEGACY OF NASA AND APOLLO\, Oct 19\, 2019\, Wichita\, KS\, 9:00 am-7:00 pm Central DaylightTime
DESCRIPTION:Wichita State University and the Wichita Space Initiative will hold a symposium on October 19\, 2019 from 9:00 am – 7:00 pm Central Daylight Time in Wichita\, Kansas to communicate with the public about the scientific return from 60 years of NASA research. \nMore information is on the event’s website.
URL:https://spacepolicyonline.com/events/celebrating-the-scientific-legacy-of-nasa-and-apollo-oct-19-2019-wichita-ks-800-am-700-pm-central-daylighttime/
END:VEVENT
END:VCALENDAR