BEGIN:VCALENDAR
VERSION:2.0
PRODID:-//SpacePolicyOnline.com - ECPv6.15.11//NONSGML v1.0//EN
CALSCALE:GREGORIAN
METHOD:PUBLISH
X-WR-CALNAME:SpacePolicyOnline.com
X-ORIGINAL-URL:https://spacepolicyonline.com
X-WR-CALDESC:Events for SpacePolicyOnline.com
REFRESH-INTERVAL;VALUE=DURATION:PT1H
X-Robots-Tag:noindex
X-PUBLISHED-TTL:PT1H
BEGIN:VTIMEZONE
TZID:America/New_York
BEGIN:DAYLIGHT
TZOFFSETFROM:-0500
TZOFFSETTO:-0400
TZNAME:EDT
DTSTART:20240310T070000
END:DAYLIGHT
BEGIN:STANDARD
TZOFFSETFROM:-0400
TZOFFSETTO:-0500
TZNAME:EST
DTSTART:20241103T060000
END:STANDARD
BEGIN:DAYLIGHT
TZOFFSETFROM:-0500
TZOFFSETTO:-0400
TZNAME:EDT
DTSTART:20250309T070000
END:DAYLIGHT
BEGIN:STANDARD
TZOFFSETFROM:-0400
TZOFFSETTO:-0500
TZNAME:EST
DTSTART:20251102T060000
END:STANDARD
BEGIN:DAYLIGHT
TZOFFSETFROM:-0500
TZOFFSETTO:-0400
TZNAME:EDT
DTSTART:20260308T070000
END:DAYLIGHT
BEGIN:STANDARD
TZOFFSETFROM:-0400
TZOFFSETTO:-0500
TZNAME:EST
DTSTART:20261101T060000
END:STANDARD
END:VTIMEZONE
BEGIN:VEVENT
DTSTART;TZID=America/New_York:20250124T090000
DTEND;TZID=America/New_York:20250124T230000
DTSTAMP:20260424T202211
CREATED:20241214T212313Z
LAST-MODIFIED:20250110T185749Z
UID:76564-1737709200-1737759600@spacepolicyonline.com
SUMMARY:CELESTIAL NAVIGATION: SPACE ESSENTIALS FOR NEW ACTORS (SWF/Meridian)\, Jan 24\, 2025\, 9:00-10:15 am ET
DESCRIPTION:The Secure World Foundation (SWF) and Meridian International Center will hold an event on January 24\, 2025 entitled “Celestial Navigation: Space Essentials for New Actors” at The Meridian Center\, 1630 Crescent Place\, NW\, Washington\, DC from 9:00 – 10:15 pm ET.  SWF will release the 2nd edition of its Handbook for New Actors in Space. \nSpeakers are: \n\nKrystal Azelton\, Senior Director\, Program Planning\, Secure World Foundation\nFrank Justice\, Vice President\, Center for Diplomatic Engagement\, Meridian\nMatthew Linton\, Chief Legal Officer\, True Anomaly\nMarta Mager\, Minister Counselor\, Space\, Science & Innovation\, Embassy of New Zealand\nJason Mallare\, VP & GM\, Mission Solutions\, Umbra Space\nValda Vikmanis\, Director\, Office of Space Affairs\, Bureau of Oceans and International Environmental & Scientific Affairs (OES)\, U.S Department of State\n\nMore information is on the event’s website. \n \n  \n 
URL:https://spacepolicyonline.com/events/celestial-navigation-space-essentials-for-new-actors-swf-meridian-jan-24-2025/
END:VEVENT
END:VCALENDAR