BEGIN:VCALENDAR
VERSION:2.0
PRODID:-//SpacePolicyOnline.com - ECPv6.15.11//NONSGML v1.0//EN
CALSCALE:GREGORIAN
METHOD:PUBLISH
X-WR-CALNAME:SpacePolicyOnline.com
X-ORIGINAL-URL:https://spacepolicyonline.com
X-WR-CALDESC:Events for SpacePolicyOnline.com
REFRESH-INTERVAL;VALUE=DURATION:PT1H
X-Robots-Tag:noindex
X-PUBLISHED-TTL:PT1H
BEGIN:VTIMEZONE
TZID:America/New_York
BEGIN:DAYLIGHT
TZOFFSETFROM:-0500
TZOFFSETTO:-0400
TZNAME:EDT
DTSTART:20200308T070000
END:DAYLIGHT
BEGIN:STANDARD
TZOFFSETFROM:-0400
TZOFFSETTO:-0500
TZNAME:EST
DTSTART:20201101T060000
END:STANDARD
BEGIN:DAYLIGHT
TZOFFSETFROM:-0500
TZOFFSETTO:-0400
TZNAME:EDT
DTSTART:20210314T070000
END:DAYLIGHT
BEGIN:STANDARD
TZOFFSETFROM:-0400
TZOFFSETTO:-0500
TZNAME:EST
DTSTART:20211107T060000
END:STANDARD
BEGIN:DAYLIGHT
TZOFFSETFROM:-0500
TZOFFSETTO:-0400
TZNAME:EDT
DTSTART:20220313T070000
END:DAYLIGHT
BEGIN:STANDARD
TZOFFSETFROM:-0400
TZOFFSETTO:-0500
TZNAME:EST
DTSTART:20221106T060000
END:STANDARD
END:VTIMEZONE
BEGIN:VEVENT
DTSTART;TZID=America/New_York:20210512T100000
DTEND;TZID=America/New_York:20210512T230000
DTSTAMP:20260420T140302
CREATED:20210511T121223Z
LAST-MODIFIED:20210511T121304Z
UID:43899-1620813600-1620860400@spacepolicyonline.com
SUMMARY:CHALLENGES AND OPPORTUNITIES IN THE FY2022 DEFENSE BUDGET (CSIS)\, May 12\, 2021\, virtual\, 10:00 am ET
DESCRIPTION:The Center for Strategic and International Studies (CSIS) will hold a webinar on May 12\, 2021 at 10:00 am ET on “Challenges and Opportunities in the FY2022 Defense Budget.” \nPanelists are: \n\nRep. Anthony Brown (D-MD)\nEric Fanning\, President and CEO\, Aerospace Industries Association and former Secretary of the Army\nMackenzie Eaglen\, Research Fellow\, AEI\nTodd Harrison\, Director\, Defense Budget Analysis and Director\, Aerospace Security Project\, CSIS (moderator)\n\nMore information is on the event’s website. \n  \n 
URL:https://spacepolicyonline.com/events/challenges-and-opportunities-in-the-fy2022-defense-budget-csis-may-12-2021-virtual-1000-am-et/
END:VEVENT
END:VCALENDAR