BEGIN:VCALENDAR
VERSION:2.0
PRODID:-//SpacePolicyOnline.com - ECPv6.15.11//NONSGML v1.0//EN
CALSCALE:GREGORIAN
METHOD:PUBLISH
X-WR-CALNAME:SpacePolicyOnline.com
X-ORIGINAL-URL:https://spacepolicyonline.com
X-WR-CALDESC:Events for SpacePolicyOnline.com
REFRESH-INTERVAL;VALUE=DURATION:PT1H
X-Robots-Tag:noindex
X-PUBLISHED-TTL:PT1H
BEGIN:VTIMEZONE
TZID:America/New_York
BEGIN:DAYLIGHT
TZOFFSETFROM:-0500
TZOFFSETTO:-0400
TZNAME:EDT
DTSTART:20180311T070000
END:DAYLIGHT
BEGIN:STANDARD
TZOFFSETFROM:-0400
TZOFFSETTO:-0500
TZNAME:EST
DTSTART:20181104T060000
END:STANDARD
BEGIN:DAYLIGHT
TZOFFSETFROM:-0500
TZOFFSETTO:-0400
TZNAME:EDT
DTSTART:20190310T070000
END:DAYLIGHT
BEGIN:STANDARD
TZOFFSETFROM:-0400
TZOFFSETTO:-0500
TZNAME:EST
DTSTART:20191103T060000
END:STANDARD
BEGIN:DAYLIGHT
TZOFFSETFROM:-0500
TZOFFSETTO:-0400
TZNAME:EDT
DTSTART:20200308T070000
END:DAYLIGHT
BEGIN:STANDARD
TZOFFSETFROM:-0400
TZOFFSETTO:-0500
TZNAME:EST
DTSTART:20201101T060000
END:STANDARD
END:VTIMEZONE
BEGIN:VEVENT
DTSTART;TZID=America/New_York:20190715T080000
DTEND;TZID=America/New_York:20190715T230000
DTSTAMP:20260424T233548
CREATED:20190624T153020Z
LAST-MODIFIED:20190708T141922Z
UID:26951-1563177600-1563231600@spacepolicyonline.com
SUMMARY:CHANGING SPACES AND PLACES: NATIONAL SECURITY SPACE IN TIME OF TRANSITION\, July 15\, 2019\, DC\, 8:00-11:45 am ET
DESCRIPTION:George Washington University’s Space Policy Institute and the Aerospace Corporation’s Center for Space Policy and Strategy will hold a discussion on “Changing Spaces and Places: National Security Space in a Time of Transition” on July 15\, 2019 from 8:00-11:45 am ET at GWU’s Elliott School of International Affairs\, City View Room\, 1957 E Street\, NW\, Washington\, DC. \nMore information\, including the agenda (which was updated with additional speakers on July 8)\, is on the event’s website. \n 
URL:https://spacepolicyonline.com/events/changing-spaces-and-places-national-security-space-in-time-of-transition-july-15-2019-dc-800-1145-am-et/
END:VEVENT
END:VCALENDAR