BEGIN:VCALENDAR
VERSION:2.0
PRODID:-//SpacePolicyOnline.com - ECPv6.15.11//NONSGML v1.0//EN
CALSCALE:GREGORIAN
METHOD:PUBLISH
X-WR-CALNAME:SpacePolicyOnline.com
X-ORIGINAL-URL:https://spacepolicyonline.com
X-WR-CALDESC:Events for SpacePolicyOnline.com
REFRESH-INTERVAL;VALUE=DURATION:PT1H
X-Robots-Tag:noindex
X-PUBLISHED-TTL:PT1H
BEGIN:VTIMEZONE
TZID:America/New_York
BEGIN:DAYLIGHT
TZOFFSETFROM:-0500
TZOFFSETTO:-0400
TZNAME:EDT
DTSTART:20220313T070000
END:DAYLIGHT
BEGIN:STANDARD
TZOFFSETFROM:-0400
TZOFFSETTO:-0500
TZNAME:EST
DTSTART:20221106T060000
END:STANDARD
BEGIN:DAYLIGHT
TZOFFSETFROM:-0500
TZOFFSETTO:-0400
TZNAME:EDT
DTSTART:20230312T070000
END:DAYLIGHT
BEGIN:STANDARD
TZOFFSETFROM:-0400
TZOFFSETTO:-0500
TZNAME:EST
DTSTART:20231105T060000
END:STANDARD
BEGIN:DAYLIGHT
TZOFFSETFROM:-0500
TZOFFSETTO:-0400
TZNAME:EDT
DTSTART:20240310T070000
END:DAYLIGHT
BEGIN:STANDARD
TZOFFSETFROM:-0400
TZOFFSETTO:-0500
TZNAME:EST
DTSTART:20241103T060000
END:STANDARD
END:VTIMEZONE
BEGIN:VEVENT
DTSTART;TZID=America/New_York:20230121T090000
DTEND;TZID=America/New_York:20230121T230000
DTSTAMP:20260422T095430
CREATED:20230115T180416Z
LAST-MODIFIED:20230115T180416Z
UID:59328-1674291600-1674342000@spacepolicyonline.com
SUMMARY:CHINA IN SPACE--THE SCIENCE\, OBSERVATION AND APPLICATION PROGRAMMES (BIS) WITH BRIAN HARVEY\, Jan 21\, 2023\, virtual\, 14:00-15:15 GMT (9:00-10:15 am EST)
DESCRIPTION:The British Interplanetary Society (BIS) will hold a webinar on January 21\, 2023 from 14:00-15:15 GMT (9:00-10:15 am EST) on “China in Space — The Science\, Observation and Applications Programmes.” \nThe speaker is Brian Harvey\, a writer and broadcaster on spaceflight who has written a number of histories of Chinese space programs. \nMore information about Harvey and the webinar are on the event’s website.
URL:https://spacepolicyonline.com/events/china-in-space-the-science-observation-and-application-programmes-bis-with-brian-harvey-jan-21-2023-virtual-1400-1515-gmt-900-1015-am-est/
END:VEVENT
END:VCALENDAR