BEGIN:VCALENDAR
VERSION:2.0
PRODID:-//SpacePolicyOnline.com - ECPv6.15.11//NONSGML v1.0//EN
CALSCALE:GREGORIAN
METHOD:PUBLISH
X-WR-CALNAME:SpacePolicyOnline.com
X-ORIGINAL-URL:https://spacepolicyonline.com
X-WR-CALDESC:Events for SpacePolicyOnline.com
REFRESH-INTERVAL;VALUE=DURATION:PT1H
X-Robots-Tag:noindex
X-PUBLISHED-TTL:PT1H
BEGIN:VTIMEZONE
TZID:America/New_York
BEGIN:DAYLIGHT
TZOFFSETFROM:-0500
TZOFFSETTO:-0400
TZNAME:EDT
DTSTART:20240310T070000
END:DAYLIGHT
BEGIN:STANDARD
TZOFFSETFROM:-0400
TZOFFSETTO:-0500
TZNAME:EST
DTSTART:20241103T060000
END:STANDARD
BEGIN:DAYLIGHT
TZOFFSETFROM:-0500
TZOFFSETTO:-0400
TZNAME:EDT
DTSTART:20250309T070000
END:DAYLIGHT
BEGIN:STANDARD
TZOFFSETFROM:-0400
TZOFFSETTO:-0500
TZNAME:EST
DTSTART:20251102T060000
END:STANDARD
BEGIN:DAYLIGHT
TZOFFSETFROM:-0500
TZOFFSETTO:-0400
TZNAME:EDT
DTSTART:20260308T070000
END:DAYLIGHT
BEGIN:STANDARD
TZOFFSETFROM:-0400
TZOFFSETTO:-0500
TZNAME:EST
DTSTART:20261101T060000
END:STANDARD
END:VTIMEZONE
BEGIN:VEVENT
DTSTART;TZID=America/New_York:20250527T090000
DTEND;TZID=America/New_York:20250527T230000
DTSTAMP:20260419T141857
CREATED:20250503T222817Z
LAST-MODIFIED:20250525T161024Z
UID:80682-1748336400-1748386800@spacepolicyonline.com
SUMMARY:CIVIL AND COMMERCIAL USES OF GPS (Aerospace Corp/Space Policy Inst)\, May 27\, 2025\, DC/virtual\, 9:00 am-4:00 pm ET
DESCRIPTION:The Aerospace Corporation and George Washington University’s Space Policy Institute will hold an event on May 27\, 2025 at GW’s Elliott School of International Affairs\, 1957 E St\, NW\, Washington\, DC\, from 9:00 am-4:00 pm ET.  A virtual option is available\, but registration is required. \nThe topic is: Emerging Challenges and Opportunities for Civil and Commercial Uses of GPS.” \nMore information is on the event’s website.
URL:https://spacepolicyonline.com/events/civil-and-commercial-uses-of-gps-aerospace-corp-space-policy-inst-may-27-2025-dc-900-am-400-pm-et/
END:VEVENT
END:VCALENDAR