BEGIN:VCALENDAR
VERSION:2.0
PRODID:-//SpacePolicyOnline.com - ECPv6.15.11//NONSGML v1.0//EN
CALSCALE:GREGORIAN
METHOD:PUBLISH
X-WR-CALNAME:SpacePolicyOnline.com
X-ORIGINAL-URL:https://spacepolicyonline.com
X-WR-CALDESC:Events for SpacePolicyOnline.com
REFRESH-INTERVAL;VALUE=DURATION:PT1H
X-Robots-Tag:noindex
X-PUBLISHED-TTL:PT1H
BEGIN:VTIMEZONE
TZID:America/New_York
BEGIN:DAYLIGHT
TZOFFSETFROM:-0500
TZOFFSETTO:-0400
TZNAME:EDT
DTSTART:20210314T070000
END:DAYLIGHT
BEGIN:STANDARD
TZOFFSETFROM:-0400
TZOFFSETTO:-0500
TZNAME:EST
DTSTART:20211107T060000
END:STANDARD
BEGIN:DAYLIGHT
TZOFFSETFROM:-0500
TZOFFSETTO:-0400
TZNAME:EDT
DTSTART:20220313T070000
END:DAYLIGHT
BEGIN:STANDARD
TZOFFSETFROM:-0400
TZOFFSETTO:-0500
TZNAME:EST
DTSTART:20221106T060000
END:STANDARD
BEGIN:DAYLIGHT
TZOFFSETFROM:-0500
TZOFFSETTO:-0400
TZNAME:EDT
DTSTART:20230312T070000
END:DAYLIGHT
BEGIN:STANDARD
TZOFFSETFROM:-0400
TZOFFSETTO:-0500
TZNAME:EST
DTSTART:20231105T060000
END:STANDARD
END:VTIMEZONE
BEGIN:VEVENT
DTSTART;TZID=America/New_York:20220216T070000
DTEND;TZID=America/New_York:20220217T230000
DTSTAMP:20260420T020821
CREATED:20220213T173135Z
LAST-MODIFIED:20220213T173455Z
UID:50506-1644994800-1645138800@spacepolicyonline.com
SUMMARY:CMTE ON ANALYSIS OF THE COLLAPSE OF THE 305-M TELESCOPE AT ARECIBO (Natl Acad)\, Feb 16-17\, 2022\, virtual
DESCRIPTION:The Committee on the Analysis of Causes of Failure and Collapse of the 305-Meter Telescope at the Arecibo Observatory of the National Academies of Sciences\, Engineering\, and Medicine will meet virtually on February 16-17\, 2022. \nSome sessions are open and some are closed. The agenda was not posted on the committee’s website as of February 13.
URL:https://spacepolicyonline.com/events/cmte-on-analysis-of-the-collapse-of-the-305-m-telescope-at-arecibo-natl-acad-feb-16-17-2022-virtual/
END:VEVENT
END:VCALENDAR