BEGIN:VCALENDAR
VERSION:2.0
PRODID:-//SpacePolicyOnline.com - ECPv6.15.11//NONSGML v1.0//EN
CALSCALE:GREGORIAN
METHOD:PUBLISH
X-WR-CALNAME:SpacePolicyOnline.com
X-ORIGINAL-URL:https://spacepolicyonline.com
X-WR-CALDESC:Events for SpacePolicyOnline.com
REFRESH-INTERVAL;VALUE=DURATION:PT1H
X-Robots-Tag:noindex
X-PUBLISHED-TTL:PT1H
BEGIN:VTIMEZONE
TZID:America/New_York
BEGIN:DAYLIGHT
TZOFFSETFROM:-0500
TZOFFSETTO:-0400
TZNAME:EDT
DTSTART:20250309T070000
END:DAYLIGHT
BEGIN:STANDARD
TZOFFSETFROM:-0400
TZOFFSETTO:-0500
TZNAME:EST
DTSTART:20251102T060000
END:STANDARD
BEGIN:DAYLIGHT
TZOFFSETFROM:-0500
TZOFFSETTO:-0400
TZNAME:EDT
DTSTART:20260308T070000
END:DAYLIGHT
BEGIN:STANDARD
TZOFFSETFROM:-0400
TZOFFSETTO:-0500
TZNAME:EST
DTSTART:20261101T060000
END:STANDARD
BEGIN:DAYLIGHT
TZOFFSETFROM:-0500
TZOFFSETTO:-0400
TZNAME:EDT
DTSTART:20270314T070000
END:DAYLIGHT
BEGIN:STANDARD
TZOFFSETFROM:-0400
TZOFFSETTO:-0500
TZNAME:EST
DTSTART:20271107T060000
END:STANDARD
END:VTIMEZONE
BEGIN:VEVENT
DTSTART;TZID=America/New_York:20260120T140000
DTEND;TZID=America/New_York:20260120T230000
DTSTAMP:20260419T182717
CREATED:20260111T171017Z
LAST-MODIFIED:20260111T171709Z
UID:86115-1768917600-1768950000@spacepolicyonline.com
SUMMARY:CMTE ON ASTROBIOLOGY AND PLANETARY SCIENCES (Natl Acad)\, Jan 20\, 2026\, virtual\, 2:00-3:00 pm ET
DESCRIPTION:The Committee on Astrobiology and Planetary Sciences (CAPS) of the National Academies of Sciences\, Engineering\, and Medicine will meet virtually on January 20\, 2026 from 2:00-3:00 pm ET “to brief the Director of the Planetary Sciences Division on issues discussed at the 2025 Autumn meeting of CAPS.”  The meeting will be livestreamed. \nMore information is on the event’s website.
URL:https://spacepolicyonline.com/events/cmte-on-astrobiology-and-planetary-science-natl-acad-jan-20-2026-virtual-200-300-pm-et/
END:VEVENT
END:VCALENDAR