BEGIN:VCALENDAR
VERSION:2.0
PRODID:-//SpacePolicyOnline.com - ECPv6.15.11//NONSGML v1.0//EN
CALSCALE:GREGORIAN
METHOD:PUBLISH
X-WR-CALNAME:SpacePolicyOnline.com
X-ORIGINAL-URL:https://spacepolicyonline.com
X-WR-CALDESC:Events for SpacePolicyOnline.com
REFRESH-INTERVAL;VALUE=DURATION:PT1H
X-Robots-Tag:noindex
X-PUBLISHED-TTL:PT1H
BEGIN:VTIMEZONE
TZID:America/New_York
BEGIN:DAYLIGHT
TZOFFSETFROM:-0500
TZOFFSETTO:-0400
TZNAME:EDT
DTSTART:20210314T070000
END:DAYLIGHT
BEGIN:STANDARD
TZOFFSETFROM:-0400
TZOFFSETTO:-0500
TZNAME:EST
DTSTART:20211107T060000
END:STANDARD
BEGIN:DAYLIGHT
TZOFFSETFROM:-0500
TZOFFSETTO:-0400
TZNAME:EDT
DTSTART:20220313T070000
END:DAYLIGHT
BEGIN:STANDARD
TZOFFSETFROM:-0400
TZOFFSETTO:-0500
TZNAME:EST
DTSTART:20221106T060000
END:STANDARD
BEGIN:DAYLIGHT
TZOFFSETFROM:-0500
TZOFFSETTO:-0400
TZNAME:EDT
DTSTART:20230312T070000
END:DAYLIGHT
BEGIN:STANDARD
TZOFFSETFROM:-0400
TZOFFSETTO:-0500
TZNAME:EST
DTSTART:20231105T060000
END:STANDARD
END:VTIMEZONE
BEGIN:VEVENT
DTSTART;TZID=America/New_York:20220317T123000
DTEND;TZID=America/New_York:20220317T230000
DTSTAMP:20260419T190731
CREATED:20220312T154641Z
LAST-MODIFIED:20220312T154641Z
UID:51342-1647520200-1647558000@spacepolicyonline.com
SUMMARY:CMTE ON ASTRONOMY AND ASTROPHYSICS--ROMAN SPACE TELESCOPE (Natl Acad)\, Mar 17\, 2022\, 12:30-1:45 pm ET
DESCRIPTION:The Committee on Astronomy and Astrophysics of the National Academies of Sciences\, Engineering\, and Medicine will holds its 4th teleconference to discuss how to allocate observing time on the Nancy Grace Roman Space Telescope on March 17\, 2022.  The open sessions are from 12:30-1:45 pm ET.  The rest of the meeting is closed. \nMore information is on the event’s website.
URL:https://spacepolicyonline.com/events/cmte-on-astronomy-and-astrophysics-roman-space-telescope-natl-acad-mar-17-2022-1230-145-pm-et/
END:VEVENT
END:VCALENDAR