BEGIN:VCALENDAR
VERSION:2.0
PRODID:-//SpacePolicyOnline.com - ECPv6.15.11//NONSGML v1.0//EN
CALSCALE:GREGORIAN
METHOD:PUBLISH
X-WR-CALNAME:SpacePolicyOnline.com
X-ORIGINAL-URL:https://spacepolicyonline.com
X-WR-CALDESC:Events for SpacePolicyOnline.com
REFRESH-INTERVAL;VALUE=DURATION:PT1H
X-Robots-Tag:noindex
X-PUBLISHED-TTL:PT1H
BEGIN:VTIMEZONE
TZID:America/New_York
BEGIN:DAYLIGHT
TZOFFSETFROM:-0500
TZOFFSETTO:-0400
TZNAME:EDT
DTSTART:20200308T070000
END:DAYLIGHT
BEGIN:STANDARD
TZOFFSETFROM:-0400
TZOFFSETTO:-0500
TZNAME:EST
DTSTART:20201101T060000
END:STANDARD
BEGIN:DAYLIGHT
TZOFFSETFROM:-0500
TZOFFSETTO:-0400
TZNAME:EDT
DTSTART:20210314T070000
END:DAYLIGHT
BEGIN:STANDARD
TZOFFSETFROM:-0400
TZOFFSETTO:-0500
TZNAME:EST
DTSTART:20211107T060000
END:STANDARD
BEGIN:DAYLIGHT
TZOFFSETFROM:-0500
TZOFFSETTO:-0400
TZNAME:EDT
DTSTART:20220313T070000
END:DAYLIGHT
BEGIN:STANDARD
TZOFFSETFROM:-0400
TZOFFSETTO:-0500
TZNAME:EST
DTSTART:20221106T060000
END:STANDARD
END:VTIMEZONE
BEGIN:VEVENT
DTSTART;TZID=America/New_York:20210618T110000
DTEND;TZID=America/New_York:20210618T230000
DTSTAMP:20260419T231433
CREATED:20210605T181002Z
LAST-MODIFIED:20210605T181718Z
UID:44504-1624014000-1624057200@spacepolicyonline.com
SUMMARY:CMTE ON FOUNDATION FOR ASSESSING HEALTH/VITALITY OF SMD RESEARCH COMMUNITIES (Natl Acad)\, June 18\, 2021\, virtual\, 11:00 am-2:30 pm ET
DESCRIPTION:The National Academies of Sciences\, Engineering and Medicine’s “Committee on Foundation for Assessing the Health and Vitality of Science Mission Directorate Research Communities” will meet virtually on June 18\, 2021. \nThis is the second meeting of the committee.  The first meeting\, on May 11\, was closed in its entirety.  Wanda Sigur and Charlie Bolden are the committee’s co-chairs. \nFor this meeting\, some sessions are open and some are closed. According to the agenda that is posted on June 5\, open sessions are 11:00 am-2:30 pm ET. \nMore information is on the committee’s website. \nThe committee’s statement of task is: \nThe National Academies of Sciences\, Engineering\, and Medicine will appoint an ad hoc committee to address the topic of “Building a Foundation for Assessing the Health and Vitality of the Science Mission Directorate’s Research Communities.” This study will define the data that NASA needs to collect to enable each decadal survey to conduct its own analysis of its research community’s health and vitality. This committee will recommend actions to improve the health and vitality of the communities of researchers to aid in the accomplishment of the NASA research objectives. \nTo accomplish this task\, the committee will: \n1. Identify the characteristics of a healthy and vital research community. \n2. Define implementable measures for assessing the health and vitality of a research community based on the above-identified characteristics\, considering demographics\, career-stage structure\, distribution of “hard money” and “soft money” positions\, relative dominance of NASA Centers in performing research in the discipline\, fraction of funding for the discipline provided by NASA relative to other funding agencies\, and other relevant variables. \n3. Based on the above-identified measures\, enumerate the types of data that NASA should be collecting to enable future assessments of the health and vitality of the scientific work force and any statutory\, regulatory or policy impediments to collecting those data. Recommend practical and actionable approaches that\, if implemented\, would reduce the identified impediments. \n4. Recommend and prioritize best practices for NASA to use to improve the health and vitality of its research communities. \nAs part of its work\, the committee will review and consider the findings of past social science studies of SMD-supported science communities as well as any limitations in available data found by recent Decadal Surveys and any additional information they may have developed for data that NASA was unable to provide. This part of the review will be integrated into the committee’s methods of collecting information specific to NASA science communities. These methods may include commissioned papers\, representative community panels\, and structured interviews. \n 
URL:https://spacepolicyonline.com/events/cmte-on-bldg-foundation-for-assessing-health-vitality-of-smd-research-communities-natl-acad-june-18-2021-virtual-1100-am-230-pm-et/
END:VEVENT
END:VCALENDAR