BEGIN:VCALENDAR
VERSION:2.0
PRODID:-//SpacePolicyOnline.com - ECPv6.15.11//NONSGML v1.0//EN
CALSCALE:GREGORIAN
METHOD:PUBLISH
X-WR-CALNAME:SpacePolicyOnline.com
X-ORIGINAL-URL:https://spacepolicyonline.com
X-WR-CALDESC:Events for SpacePolicyOnline.com
REFRESH-INTERVAL;VALUE=DURATION:PT1H
X-Robots-Tag:noindex
X-PUBLISHED-TTL:PT1H
BEGIN:VTIMEZONE
TZID:America/New_York
BEGIN:DAYLIGHT
TZOFFSETFROM:-0500
TZOFFSETTO:-0400
TZNAME:EDT
DTSTART:20230312T070000
END:DAYLIGHT
BEGIN:STANDARD
TZOFFSETFROM:-0400
TZOFFSETTO:-0500
TZNAME:EST
DTSTART:20231105T060000
END:STANDARD
BEGIN:DAYLIGHT
TZOFFSETFROM:-0500
TZOFFSETTO:-0400
TZNAME:EDT
DTSTART:20240310T070000
END:DAYLIGHT
BEGIN:STANDARD
TZOFFSETFROM:-0400
TZOFFSETTO:-0500
TZNAME:EST
DTSTART:20241103T060000
END:STANDARD
BEGIN:DAYLIGHT
TZOFFSETFROM:-0500
TZOFFSETTO:-0400
TZNAME:EDT
DTSTART:20250309T070000
END:DAYLIGHT
BEGIN:STANDARD
TZOFFSETFROM:-0400
TZOFFSETTO:-0500
TZNAME:EST
DTSTART:20251102T060000
END:STANDARD
END:VTIMEZONE
BEGIN:VEVENT
DTSTART;TZID=America/New_York:20240827T160000
DTEND;TZID=America/New_York:20240827T230000
DTSTAMP:20260421T013534
CREATED:20240825T160401Z
LAST-MODIFIED:20240825T160401Z
UID:73721-1724774400-1724799600@spacepolicyonline.com
SUMMARY:CMTE ON EARTH SCIENCE AND APPLICATIONS FROM SPACE (CESAS) TELECON (Natl Acad)\, Aug 27\, 2024\, virtual\, 4:00-5:30 pm ET
DESCRIPTION:The Committee on Earth Science and Applications from Space (CESAS) of the National Academies of Sciences\, Engineering\, and Medicine will hold a public telecon on August 27\, 2024 from 4:00-5:30 pm ET. \nMore information is on the committee’s website\, which says: \nInvited Participants: CESAS Members and Karen St. Germain and Julie Robinson\, NASA ESD Director and Deputy Director\, respectively; Chris Kummerow and Anna Michalak\, co-chairs of the recently published midterm assessment of the 2018 Earth Science and Applications from Space decadal survey; Tim Newman\, Program Coordinator for the National Land Imaging Program\, USGS; and Ed Grigsby\, Director of Systems Architecture and Engineering\, NOAA NESDIS.
URL:https://spacepolicyonline.com/events/cmte-on-earth-science-and-applications-from-space-cesas-telecon-natl-acad-aug-27-2024-virtual-400-530-pm-et/
END:VEVENT
END:VCALENDAR