BEGIN:VCALENDAR
VERSION:2.0
PRODID:-//SpacePolicyOnline.com - ECPv6.15.11//NONSGML v1.0//EN
CALSCALE:GREGORIAN
METHOD:PUBLISH
X-WR-CALNAME:SpacePolicyOnline.com
X-ORIGINAL-URL:https://spacepolicyonline.com
X-WR-CALDESC:Events for SpacePolicyOnline.com
REFRESH-INTERVAL;VALUE=DURATION:PT1H
X-Robots-Tag:noindex
X-PUBLISHED-TTL:PT1H
BEGIN:VTIMEZONE
TZID:America/New_York
BEGIN:DAYLIGHT
TZOFFSETFROM:-0500
TZOFFSETTO:-0400
TZNAME:EDT
DTSTART:20220313T070000
END:DAYLIGHT
BEGIN:STANDARD
TZOFFSETFROM:-0400
TZOFFSETTO:-0500
TZNAME:EST
DTSTART:20221106T060000
END:STANDARD
BEGIN:DAYLIGHT
TZOFFSETFROM:-0500
TZOFFSETTO:-0400
TZNAME:EDT
DTSTART:20230312T070000
END:DAYLIGHT
BEGIN:STANDARD
TZOFFSETFROM:-0400
TZOFFSETTO:-0500
TZNAME:EST
DTSTART:20231105T060000
END:STANDARD
BEGIN:DAYLIGHT
TZOFFSETFROM:-0500
TZOFFSETTO:-0400
TZNAME:EDT
DTSTART:20240310T070000
END:DAYLIGHT
BEGIN:STANDARD
TZOFFSETFROM:-0400
TZOFFSETTO:-0500
TZNAME:EST
DTSTART:20241103T060000
END:STANDARD
END:VTIMEZONE
BEGIN:VEVENT
DTSTART;TZID=America/New_York:20230626T073000
DTEND;TZID=America/New_York:20230628T230000
DTSTAMP:20260421T073530
CREATED:20230618T192808Z
LAST-MODIFIED:20230625T153859Z
UID:62901-1687764600-1687993200@spacepolicyonline.com
SUMMARY:CMTE ON NASA CRITICAL WORKFORCE\, INFRASTRUCTURE AND TECH (Natl Acad)\, June 26-28\, 2023\, Stennis Space Center\, MS
DESCRIPTION:The Committee on NASA Critical Workforce\, Infrastructure and Technology of the National Academies of Sciences\, Engineering and Medicine will meet at NASA’s Stennis Space Center in Mississippi from June 26-28\, 2023. \nSome sessions are open and some are closed. \nMore information is on the committee’s website. \nThe agenda is posted with links to the sessions that will be livestreamed.
URL:https://spacepolicyonline.com/events/cmte-on-nasa-critical-workforce-infrastructure-and-tech-natl-acad-june-26-28-2023-stennis-space-center-ms/
END:VEVENT
END:VCALENDAR