BEGIN:VCALENDAR
VERSION:2.0
PRODID:-//SpacePolicyOnline.com - ECPv6.15.11//NONSGML v1.0//EN
CALSCALE:GREGORIAN
METHOD:PUBLISH
X-WR-CALNAME:SpacePolicyOnline.com
X-ORIGINAL-URL:https://spacepolicyonline.com
X-WR-CALDESC:Events for SpacePolicyOnline.com
REFRESH-INTERVAL;VALUE=DURATION:PT1H
X-Robots-Tag:noindex
X-PUBLISHED-TTL:PT1H
BEGIN:VTIMEZONE
TZID:America/New_York
BEGIN:DAYLIGHT
TZOFFSETFROM:-0500
TZOFFSETTO:-0400
TZNAME:EDT
DTSTART:20220313T070000
END:DAYLIGHT
BEGIN:STANDARD
TZOFFSETFROM:-0400
TZOFFSETTO:-0500
TZNAME:EST
DTSTART:20221106T060000
END:STANDARD
BEGIN:DAYLIGHT
TZOFFSETFROM:-0500
TZOFFSETTO:-0400
TZNAME:EDT
DTSTART:20230312T070000
END:DAYLIGHT
BEGIN:STANDARD
TZOFFSETFROM:-0400
TZOFFSETTO:-0500
TZNAME:EST
DTSTART:20231105T060000
END:STANDARD
BEGIN:DAYLIGHT
TZOFFSETFROM:-0500
TZOFFSETTO:-0400
TZNAME:EDT
DTSTART:20240310T070000
END:DAYLIGHT
BEGIN:STANDARD
TZOFFSETFROM:-0400
TZOFFSETTO:-0500
TZNAME:EST
DTSTART:20241103T060000
END:STANDARD
END:VTIMEZONE
BEGIN:VEVENT
DTSTART;TZID=America/New_York:20230302T073000
DTEND;TZID=America/New_York:20230303T230000
DTSTAMP:20260425T212624
CREATED:20230226T170030Z
LAST-MODIFIED:20230228T194206Z
UID:60148-1677742200-1677884400@spacepolicyonline.com
SUMMARY:CMTE ON NASA MISSION CRITICAL WORKFORCE\, INFRASTRUCTURE AND TECHNOLOGY (Natl Acad)\, Mar 2-3\, 2023\, DC
DESCRIPTION:Update\, February 28: The agenda has been posted. Only portions of the meeting on March 2 and 3 are open to the public: March 2\, 9:30 am-2:30 pm; March 3\, 10:00 am-12:00 pm ET\, incluidng public comment period from 11:30-12:00. \nThe meeting will be livestreamed\, but the livestream link is “TBD” on the agenda. Check the committee’s website for up to date information. \nOriginal Entry: The National Academies of Sciences\, Engineering and Medicine will hold the first meeting of its Committee on NASA Mission Critical Wo       rkforce\, Infrastrucuture and Technology from March 1-3\, 2023. \nThe meeting on March 1 is closed\, but open on March 2-3. The agenda had not been posted on the committee’s website as of February 26. \nThe committee will meet at the National Academy of Sciences building\, 2101 Constitution Ave.\, NW\, Washington\, DC.  The website does not indicate if the meeting will be livestreamed\, but many Space Studies Board (SSB) and Aeronautics and Space Engineering Board (ASEB) meetings are so check that website for updated information. \nThe committee’s task is as follows: \nThis study will review the critical facilities\, workforce\, and technology needed to achieve NASA’s long-term strategic goals and mission objectives. \nThe Committee will consider NASA’s mission objectives and strategic goals\, identify the critical facilities\, workforce\, and technologies needed to accomplish these goals\, and provide prioritized recommendations on actions to improve or support these critical capabilities. The final report will recommend high-level actions to bolster the workforce\, infrastructure\, and technological capabilities that enable transformational achievements at NASA\, including those that could benefit from cross-directorate collaboration.
URL:https://spacepolicyonline.com/events/cmte-on-nasa-mission-critical-workforce-infrastructure-and-technology-natl-acad-mar-2-3-2023-dc/
END:VEVENT
END:VCALENDAR