BEGIN:VCALENDAR
VERSION:2.0
PRODID:-//SpacePolicyOnline.com - ECPv6.15.11//NONSGML v1.0//EN
CALSCALE:GREGORIAN
METHOD:PUBLISH
X-WR-CALNAME:SpacePolicyOnline.com
X-ORIGINAL-URL:https://spacepolicyonline.com
X-WR-CALDESC:Events for SpacePolicyOnline.com
REFRESH-INTERVAL;VALUE=DURATION:PT1H
X-Robots-Tag:noindex
X-PUBLISHED-TTL:PT1H
BEGIN:VTIMEZONE
TZID:America/New_York
BEGIN:DAYLIGHT
TZOFFSETFROM:-0500
TZOFFSETTO:-0400
TZNAME:EDT
DTSTART:20240310T070000
END:DAYLIGHT
BEGIN:STANDARD
TZOFFSETFROM:-0400
TZOFFSETTO:-0500
TZNAME:EST
DTSTART:20241103T060000
END:STANDARD
BEGIN:DAYLIGHT
TZOFFSETFROM:-0500
TZOFFSETTO:-0400
TZNAME:EDT
DTSTART:20250309T070000
END:DAYLIGHT
BEGIN:STANDARD
TZOFFSETFROM:-0400
TZOFFSETTO:-0500
TZNAME:EST
DTSTART:20251102T060000
END:STANDARD
BEGIN:DAYLIGHT
TZOFFSETFROM:-0500
TZOFFSETTO:-0400
TZNAME:EDT
DTSTART:20260308T070000
END:DAYLIGHT
BEGIN:STANDARD
TZOFFSETFROM:-0400
TZOFFSETTO:-0500
TZNAME:EST
DTSTART:20261101T060000
END:STANDARD
END:VTIMEZONE
BEGIN:VEVENT
DTSTART;TZID=America/New_York:20251216T120000
DTEND;TZID=America/New_York:20251216T230000
DTSTAMP:20260419T113938
CREATED:20251214T155616Z
LAST-MODIFIED:20251214T224703Z
UID:85589-1765886400-1765926000@spacepolicyonline.com
SUMMARY:COLLISION COURSE: IS SPACE TRAFFIC MGMT DEAD\, WILL EUROPE KILL THE CMRCL DREAM (Reuters)\, Dec 16\, 2025\, virtual\, 12:00 pm ET
DESCRIPTION:Reuters Events will hold a webinar on December 16\, 2025 at 12:00 pm ET to discuss “Collision Course: Is Space Traffic Management Dead\, and Will Europe Kill the Commercial Dream.” \nMore information is on the event’s website\, which says: \nThe global effort to secure a coordinated Space Traffic Management (STM) system has stalled in the U.S.\, leaving orbits more congested and contested than ever. Simultaneously\, the EU is pursuing burdensome new regulations that threaten to create an anti-competitive marketplace and impose massive compliance costs on operators worldwide. \nThis is the urgent crossroads for space commerce. Our expert panel will move past old talking points to confront the real-world financial and operational impact of orbital debris. Is the problem the wrong regulatory design\, technology gaps\, or do we have a problem at all? \nJoin this provocative session where industry leaders take real positions on who moves next—and who pays the price. \nParticipants are: \nJosef Koller\, Principal\, Space Safety\, and Sustainability\, Amazon Kuiper\nAudrey Schaffer\, Senior Vice President\, Global Policy and Government Strategy\, Slingshot Aerospace\nChris Kunstadter\, President\, Triton Space LLC\nModerator: Mike French\, CEO\, Space Policy Group
URL:https://spacepolicyonline.com/events/collision-course-is-space-traffic-mgmt-dead-will-europe-kill-the-cmrcl-dream-reuters-dec-16-2025-virtual-1200-pm-et/
END:VEVENT
END:VCALENDAR