BEGIN:VCALENDAR
VERSION:2.0
PRODID:-//SpacePolicyOnline.com - ECPv6.15.11//NONSGML v1.0//EN
CALSCALE:GREGORIAN
METHOD:PUBLISH
X-WR-CALNAME:SpacePolicyOnline.com
X-ORIGINAL-URL:https://spacepolicyonline.com
X-WR-CALDESC:Events for SpacePolicyOnline.com
REFRESH-INTERVAL;VALUE=DURATION:PT1H
X-Robots-Tag:noindex
X-PUBLISHED-TTL:PT1H
BEGIN:VTIMEZONE
TZID:America/New_York
BEGIN:DAYLIGHT
TZOFFSETFROM:-0500
TZOFFSETTO:-0400
TZNAME:EDT
DTSTART:20230312T070000
END:DAYLIGHT
BEGIN:STANDARD
TZOFFSETFROM:-0400
TZOFFSETTO:-0500
TZNAME:EST
DTSTART:20231105T060000
END:STANDARD
BEGIN:DAYLIGHT
TZOFFSETFROM:-0500
TZOFFSETTO:-0400
TZNAME:EDT
DTSTART:20240310T070000
END:DAYLIGHT
BEGIN:STANDARD
TZOFFSETFROM:-0400
TZOFFSETTO:-0500
TZNAME:EST
DTSTART:20241103T060000
END:STANDARD
BEGIN:DAYLIGHT
TZOFFSETFROM:-0500
TZOFFSETTO:-0400
TZNAME:EDT
DTSTART:20250309T070000
END:DAYLIGHT
BEGIN:STANDARD
TZOFFSETFROM:-0400
TZOFFSETTO:-0500
TZNAME:EST
DTSTART:20251102T060000
END:STANDARD
END:VTIMEZONE
BEGIN:VEVENT
DTSTART;TZID=America/New_York:20240918T140000
DTEND;TZID=America/New_York:20240918T230000
DTSTAMP:20260420T235238
CREATED:20240915T200346Z
LAST-MODIFIED:20240915T200346Z
UID:74292-1726668000-1726700400@spacepolicyonline.com
SUMMARY:COMMERCIAL SPACE FOR NATIONAL SECURITY: INTEGRATION AND INSTITUTIONAL CHANGE (CSIS)\, Sept 18\, 2024\, virtual\, 2:00-3:00 pm ET
DESCRIPTION:The Center for Strategic and International Studies (CSIS) will hold a webinar on September 18\, 2024 from 2:00-3:00 pm ET to discuss “Commercial Space and National Security: Integration and Institutional Change.” \nMore information is on the event’s website\, which says: \n“Please join the CSIS Aerospace Security Project on Wednesday\, September 18\, at 2:00 PM EDT\, for a conversation on commercial space and national security with General (Ret.) Ellen M. Pawlikowski\, U.S. Air Force\, and Ms. Mandy F. Vaughn\, CEO and Founder\, GXO\, Inc.  The virtual discussion will be moderated by Kari A. Bingen\, director of the Aerospace Security Project and senior fellow with the International Security Program. \n“The commercial space sector has expanded dramatically.  Fueled by capital investments\, technological advancements and entrepreneurialism in the private sector have given rise to a range of commercial space solutions that contribute to U.S. national security and economic competitiveness.  Recognizing the need to leverage these capabilities\, the Department of Defense (DoD) recently published a DoD Commercial Space Integration Strategy and the U.S. Space Force released a Commercial Space Strategy.  However\, a number of institutional barriers remain to turning these strategies into action. \n“Pawlikowski and Vaughn will discuss a recent Defense Science Board study that they co-led\, “Commercial Space System Access and Integrity\,”  which examined the DoD’s use of commercial space technology and services.  They will talk about the opportunities that commercial space provides and the institutional changes necessary to enable greater adoption by the defense and national security communities.” \n  \n 
URL:https://spacepolicyonline.com/events/commercial-space-for-national-security-integration-and-institutional-change-csis-sept-18-2024-virtual-200-300-pm-et/
END:VEVENT
END:VCALENDAR