BEGIN:VCALENDAR
VERSION:2.0
PRODID:-//SpacePolicyOnline.com - ECPv6.15.11//NONSGML v1.0//EN
CALSCALE:GREGORIAN
METHOD:PUBLISH
X-WR-CALNAME:SpacePolicyOnline.com
X-ORIGINAL-URL:https://spacepolicyonline.com
X-WR-CALDESC:Events for SpacePolicyOnline.com
REFRESH-INTERVAL;VALUE=DURATION:PT1H
X-Robots-Tag:noindex
X-PUBLISHED-TTL:PT1H
BEGIN:VTIMEZONE
TZID:America/New_York
BEGIN:DAYLIGHT
TZOFFSETFROM:-0500
TZOFFSETTO:-0400
TZNAME:EDT
DTSTART:20220313T070000
END:DAYLIGHT
BEGIN:STANDARD
TZOFFSETFROM:-0400
TZOFFSETTO:-0500
TZNAME:EST
DTSTART:20221106T060000
END:STANDARD
BEGIN:DAYLIGHT
TZOFFSETFROM:-0500
TZOFFSETTO:-0400
TZNAME:EDT
DTSTART:20230312T070000
END:DAYLIGHT
BEGIN:STANDARD
TZOFFSETFROM:-0400
TZOFFSETTO:-0500
TZNAME:EST
DTSTART:20231105T060000
END:STANDARD
BEGIN:DAYLIGHT
TZOFFSETFROM:-0500
TZOFFSETTO:-0400
TZNAME:EDT
DTSTART:20240310T070000
END:DAYLIGHT
BEGIN:STANDARD
TZOFFSETFROM:-0400
TZOFFSETTO:-0500
TZNAME:EST
DTSTART:20241103T060000
END:STANDARD
END:VTIMEZONE
BEGIN:VEVENT
DTSTART;TZID=America/New_York:20230612T100000
DTEND;TZID=America/New_York:20230612T230000
DTSTAMP:20260425T222704
CREATED:20230603T173743Z
LAST-MODIFIED:20230611T174130Z
UID:62602-1686564000-1686610800@spacepolicyonline.com
SUMMARY:COMMITTEE ON NASA MISSION CRITICAL WORKFORCE\, INFRASTRUCTURE AND TECH (Natl Acad)\, June 12\, 2023\, virtual\, 10:00 am-3:30 pm ET
DESCRIPTION:The Committee on NASA Mission Critical Workforce\, Infrastructure and Technology of the National Academies of Sciences\, Engineering and Medicine will meet virtually on June 12\, 2023 from 10:00 am-3:30 pm to discuss “Technology.” \nMore information is on the committee’s website.  The meeting will be livestreamed. The link is on the agenda.
URL:https://spacepolicyonline.com/events/committee-on-nasa-mission-critical-workforce-infrastructure-and-tech-natl-acad-june-12-2023-virtual-1000-am-330-pm-et/
END:VEVENT
END:VCALENDAR