BEGIN:VCALENDAR
VERSION:2.0
PRODID:-//SpacePolicyOnline.com - ECPv6.15.11//NONSGML v1.0//EN
CALSCALE:GREGORIAN
METHOD:PUBLISH
X-WR-CALNAME:SpacePolicyOnline.com
X-ORIGINAL-URL:https://spacepolicyonline.com
X-WR-CALDESC:Events for SpacePolicyOnline.com
REFRESH-INTERVAL;VALUE=DURATION:PT1H
X-Robots-Tag:noindex
X-PUBLISHED-TTL:PT1H
BEGIN:VTIMEZONE
TZID:America/New_York
BEGIN:DAYLIGHT
TZOFFSETFROM:-0500
TZOFFSETTO:-0400
TZNAME:EDT
DTSTART:20210314T070000
END:DAYLIGHT
BEGIN:STANDARD
TZOFFSETFROM:-0400
TZOFFSETTO:-0500
TZNAME:EST
DTSTART:20211107T060000
END:STANDARD
BEGIN:DAYLIGHT
TZOFFSETFROM:-0500
TZOFFSETTO:-0400
TZNAME:EDT
DTSTART:20220313T070000
END:DAYLIGHT
BEGIN:STANDARD
TZOFFSETFROM:-0400
TZOFFSETTO:-0500
TZNAME:EST
DTSTART:20221106T060000
END:STANDARD
BEGIN:DAYLIGHT
TZOFFSETFROM:-0500
TZOFFSETTO:-0400
TZNAME:EDT
DTSTART:20230312T070000
END:DAYLIGHT
BEGIN:STANDARD
TZOFFSETFROM:-0400
TZOFFSETTO:-0500
TZNAME:EST
DTSTART:20231105T060000
END:STANDARD
END:VTIMEZONE
BEGIN:VEVENT
DTSTART;TZID=America/New_York:20220209T123000
DTEND;TZID=America/New_York:20220209T230000
DTSTAMP:20260420T010210
CREATED:20220206T204528Z
LAST-MODIFIED:20220206T204528Z
UID:50337-1644409800-1644447600@spacepolicyonline.com
SUMMARY:COMMITTEE ON PLANETARY PROTECTION--SMALL BODIES (Natl Acad)\, Feb 9\, 2022\, virtual\, 12:30-3:00 pm ET
DESCRIPTION:The Committee on Planetary Protection of the National Academices of Sciences\, Engineering and Medicine will meet virtually on February 9\, 2022. The open sessions are 12:30-3:00 pm ET.  This is the committee’s third meeting on Planetary Protection for Missions to Small Bodies. \nThe meeting will be livestreamed.  Check the committee’s website for the link.
URL:https://spacepolicyonline.com/events/committee-on-planetary-protection-small-bodies-natl-acad-feb-9-2022-virtual-1230-300-pm-et/
END:VEVENT
END:VCALENDAR