BEGIN:VCALENDAR
VERSION:2.0
PRODID:-//SpacePolicyOnline.com - ECPv6.15.11//NONSGML v1.0//EN
CALSCALE:GREGORIAN
METHOD:PUBLISH
X-WR-CALNAME:SpacePolicyOnline.com
X-ORIGINAL-URL:https://spacepolicyonline.com
X-WR-CALDESC:Events for SpacePolicyOnline.com
REFRESH-INTERVAL;VALUE=DURATION:PT1H
X-Robots-Tag:noindex
X-PUBLISHED-TTL:PT1H
BEGIN:VTIMEZONE
TZID:America/New_York
BEGIN:DAYLIGHT
TZOFFSETFROM:-0500
TZOFFSETTO:-0400
TZNAME:EDT
DTSTART:20220313T070000
END:DAYLIGHT
BEGIN:STANDARD
TZOFFSETFROM:-0400
TZOFFSETTO:-0500
TZNAME:EST
DTSTART:20221106T060000
END:STANDARD
BEGIN:DAYLIGHT
TZOFFSETFROM:-0500
TZOFFSETTO:-0400
TZNAME:EDT
DTSTART:20230312T070000
END:DAYLIGHT
BEGIN:STANDARD
TZOFFSETFROM:-0400
TZOFFSETTO:-0500
TZNAME:EST
DTSTART:20231105T060000
END:STANDARD
BEGIN:DAYLIGHT
TZOFFSETFROM:-0500
TZOFFSETTO:-0400
TZNAME:EDT
DTSTART:20240310T070000
END:DAYLIGHT
BEGIN:STANDARD
TZOFFSETFROM:-0400
TZOFFSETTO:-0500
TZNAME:EST
DTSTART:20241103T060000
END:STANDARD
END:VTIMEZONE
BEGIN:VEVENT
DTSTART;TZID=America/New_York:20230711T130000
DTEND;TZID=America/New_York:20230711T230000
DTSTAMP:20260421T081801
CREATED:20230618T190925Z
LAST-MODIFIED:20230618T190925Z
UID:62894-1689080400-1689116400@spacepolicyonline.com
SUMMARY:COMSTAC\, July 11\, 2023\, virtual\, 1:00-3:00 pm ET
DESCRIPTION:The FAA’s Commercial Space Transportation Advisory Committee (COMSTAC) will meet virtually on July 11\, 2023 from 1:00-3:00 pm ET. \nMore information is in the Federal Register notice\, which is reproduced below. \nSUMMARY: This notice announces a meeting of the Commercial Space \nTransportation Advisory Committee.\n\nDATES: The meeting will take place on July 11\, 2023 from 1 p.m. to 3 \np.m.\n\nADDRESSES: Instructions on how to virtually attend the meeting\, copies \nof meeting minutes\, and a detailed agenda will be posted on the COMSTAC \nwebsite at: https://www.faa.gov/space/additional_information/comstac/.\n\nFOR FURTHER INFORMATION CONTACT: James Hatt\, Designated Federal \nOfficer\, U.S. Department of Transportation\, at james.a.hatt@faa.gov or \n202-549-2325. Any committee related request should be sent to the \nperson listed in this section.\n\nSUPPLEMENTARY INFORMATION: \n\n[[Page 39904]]\n\nI. Background\n\n    The Commercial Space Transportation Advisory Committee was created \nunder the Federal Advisory Committee Act (FACA)\, in accordance with \nPublic Law 92-463. Since its inception\, industry-led COMSTAC has \nprovided information\, advice\, and recommendations to the U.S. \nDepartment of Transportation through FAA regarding technology\, \nbusiness\, and policy issues relevant to oversight of the U.S. \ncommercial space transportation sector.\n\nII. Proposed Agenda\n\nWelcome Remarks\n    COMSTAC Chair\nCOMSTAC Report\n    Additional Clarification on part 450\nPublic Comment Period\nClosing Comments\nAdjournment\n\nIII. Public Participation\n\n    The meeting listed in this notice will be open to the public\, \nvirtually. Please see the website no later than five working days \nbefore the meeting for details on viewing the meeting on YouTube.\n    If you are in need of assistance or require a reasonable \naccommodation for this meeting\, please contact the person listed in the \nFOR FURTHER INFORMATION CONTACT section at least 10 calendar days \nbefore the meeting. Sign and oral interpretation can be made available \nif requested 10 calendar days before the meeting.\n    Interested members of the public may submit relevant written \nstatements for the COMSTAC members to consider under the advisory \nprocess. Statements may concern the issues and agenda items mentioned \nabove and/or additional issues that may be relevant for the U.S. \ncommercial space transportation industry. Interested parties wishing to \nsubmit written statements should contact the person listed in the FOR \nFURTHER INFORMATION CONTACT section in writing (mail or email) by July \n7\, 2023 so that the information can be made available to COMSTAC \nmembers for their review and consideration before the meeting. Written \nstatements should be supplied in the following formats: One hard copy \nwith original signature and/or one electronic copy via email. Portable \nDocument Format (PDF) attachments are preferred for email submissions. \nA detailed agenda will be posted on the FAA website at \nhttps://www.faa.gov/space/additional_information/comstac/.\n\n    Issued in Washington\, DC.
URL:https://spacepolicyonline.com/events/comstac-july-11-2023-virtual-100-300-pm-et/
END:VEVENT
END:VCALENDAR