BEGIN:VCALENDAR
VERSION:2.0
PRODID:-//SpacePolicyOnline.com - ECPv6.15.11//NONSGML v1.0//EN
CALSCALE:GREGORIAN
METHOD:PUBLISH
X-WR-CALNAME:SpacePolicyOnline.com
X-ORIGINAL-URL:https://spacepolicyonline.com
X-WR-CALDESC:Events for SpacePolicyOnline.com
REFRESH-INTERVAL;VALUE=DURATION:PT1H
X-Robots-Tag:noindex
X-PUBLISHED-TTL:PT1H
BEGIN:VTIMEZONE
TZID:America/New_York
BEGIN:DAYLIGHT
TZOFFSETFROM:-0500
TZOFFSETTO:-0400
TZNAME:EDT
DTSTART:20200308T070000
END:DAYLIGHT
BEGIN:STANDARD
TZOFFSETFROM:-0400
TZOFFSETTO:-0500
TZNAME:EST
DTSTART:20201101T060000
END:STANDARD
BEGIN:DAYLIGHT
TZOFFSETFROM:-0500
TZOFFSETTO:-0400
TZNAME:EDT
DTSTART:20210314T070000
END:DAYLIGHT
BEGIN:STANDARD
TZOFFSETFROM:-0400
TZOFFSETTO:-0500
TZNAME:EST
DTSTART:20211107T060000
END:STANDARD
BEGIN:DAYLIGHT
TZOFFSETFROM:-0500
TZOFFSETTO:-0400
TZNAME:EDT
DTSTART:20220313T070000
END:DAYLIGHT
BEGIN:STANDARD
TZOFFSETFROM:-0400
TZOFFSETTO:-0500
TZNAME:EST
DTSTART:20221106T060000
END:STANDARD
END:VTIMEZONE
BEGIN:VEVENT
DTSTART;TZID=America/New_York:20211105T090000
DTEND;TZID=America/New_York:20211105T230000
DTSTAMP:20260420T181735
CREATED:20211021T122103Z
LAST-MODIFIED:20211025T180835Z
UID:47584-1636102800-1636153200@spacepolicyonline.com
SUMMARY:COMSTAC\, Nov 5\, 2021\, virtual\, 9:00 am-4:15 pm ET
DESCRIPTION:The FAA’s Commercial Space Transportation Advisory Committee (COMSTAC) will meet virtually on November 5\, 2021 from 9:00 am – 4:15 pm ET. \nThe meeting will be streamed on YouTube. Members of the public can ask questions during the event by going to the this link. \nMore information is in the Federal Register notice\, reproduced below\, and on the COMSTAC website.  As of October 25\, the latter provides an outline of the agenda: \nDOT/FAA Welcome Remarks\nVIP Remarks\nFAA Updates\nReview of Tasks Assigned at Previous Meetings/COMSTAC Final Recommendations\nPublic Comment \n  \nSUMMARY: This notice announces a meeting of the Commercial Space \nTransportation Advisory Committee (COMSTAC).\n\nDATES: The November 5\, 2021 meeting will be held from 9:00 a.m. to 4:15 \np.m.\n    Requests to attend the virtual meeting must be received by November \n3\, 2021.\n    Requests for accommodations to a disability must be received by \nNovember 3\, 2021.\n    Requests to speak during the meeting must be submitted to the \nDepartment of Transportation (DOT) by November 2\, 2021 and include a \nwritten copy of the speaker's remarks. Registrants in the Zoom meeting \nroom will have the opportunity to interact directly with committee \nmembers.\n    Requests to submit written materials to be reviewed during the \nmeeting must be received by DOT no later than November 2\, 2021.\n\nADDRESSES: The meeting will be an internet-only meeting. No physical \nmeeting is planned. Instructions on how to attend the meeting\, copies \nof meeting minutes\, and a detailed agenda will be posted on the COMSTAC \nwebsite at: https://www.faa.gov/space/additional_information/comstac/.\n\nFOR FURTHER INFORMATION CONTACT: James Hatt\, Designated Federal \nOfficer\, U.S. Department of Transportation\, at james.a.hatt@faa.gov\, \n(202) 549-2325. Any committee-related request should be sent to the \nperson listed in this section.\n\nSUPPLEMENTARY INFORMATION: \n\nI. Background\n\n    The Commercial Space Transportation Advisory Committee was created \nunder the Federal Advisory Committee Act (FACA)\, in accordance with \nPublic Law 92-463. Since its inception\, COMSTAC has provided \ninformation\, advice\, and recommendations to DOT through FAA regarding \ntechnology\, business\, and policy issues relevant to oversight of the \nU.S. commercial space transportation sector.\n\nII. Proposed Agenda\n\nDOT/FAA Welcome Remarks\nVIP Remarks\nFAA Updates\nReview of Tasks Assigned at Previous Meetings \1\/COMSTAC Final \nRecommendations\n---------------------------------------------------------------------------\n\n    \1\ Current COMSTAC Tasks can be found at:\nhttps://www.faa.gov/space/additional_information/comstac/media/COMSTAC_March_2021_revised_Task_List_16_April.pdf.\n---------------------------------------------------------------------------\n\nPublic Comment\nFuture COMSTAC Business\n\nIII. Public Participation\n\n    The meeting listed in this notice will be open to the public. DOT \nis committed to providing equal access to this meeting for all \nparticipants. If you need alternative formats or services because of a \ndisability\, such as sign language\, interpretation\, or other ancillary \naids\, please contact the person listed in the FOR FURTHER INFORMATION \nCONTACT section.\n    There will be at least thirty minutes allotted for oral comments \nfrom members of the public joining a COMSTAC meeting. To accommodate as \nmany speakers as possible\, the time for each commenter may be limited. \nIndividuals wishing to reserve speaking time during the meeting must \nsubmit a request at the time of registration\, as well as the name\, \naddress\, and organizational affiliation of the proposed speaker. If the \nnumber of registrants requesting to make statements is greater than can \nbe reasonably accommodated during the meeting\, the FAA Office of \nCommercial Space Transportation may conduct a lottery to determine \nwhich registrants will have the opportunity to speak. Speakers are \nrequested to submit a written copy of their prepared remarks for \ninclusion in the meeting records and for circulation to COMSTAC \nmembers. All prepared remarks submitted on time will be accepted and \nconsidered as part of the record. Any member of the public may present \na written statement to the committee at any time.
URL:https://spacepolicyonline.com/events/comstac-nov-5-2021-virtual-900-am-415-pm-et/
END:VEVENT
END:VCALENDAR