BEGIN:VCALENDAR
VERSION:2.0
PRODID:-//SpacePolicyOnline.com - ECPv6.15.11//NONSGML v1.0//EN
CALSCALE:GREGORIAN
METHOD:PUBLISH
X-WR-CALNAME:SpacePolicyOnline.com
X-ORIGINAL-URL:https://spacepolicyonline.com
X-WR-CALDESC:Events for SpacePolicyOnline.com
REFRESH-INTERVAL;VALUE=DURATION:PT1H
X-Robots-Tag:noindex
X-PUBLISHED-TTL:PT1H
BEGIN:VTIMEZONE
TZID:America/New_York
BEGIN:DAYLIGHT
TZOFFSETFROM:-0500
TZOFFSETTO:-0400
TZNAME:EDT
DTSTART:20240310T070000
END:DAYLIGHT
BEGIN:STANDARD
TZOFFSETFROM:-0400
TZOFFSETTO:-0500
TZNAME:EST
DTSTART:20241103T060000
END:STANDARD
BEGIN:DAYLIGHT
TZOFFSETFROM:-0500
TZOFFSETTO:-0400
TZNAME:EDT
DTSTART:20250309T070000
END:DAYLIGHT
BEGIN:STANDARD
TZOFFSETFROM:-0400
TZOFFSETTO:-0500
TZNAME:EST
DTSTART:20251102T060000
END:STANDARD
BEGIN:DAYLIGHT
TZOFFSETFROM:-0500
TZOFFSETTO:-0400
TZNAME:EDT
DTSTART:20260308T070000
END:DAYLIGHT
BEGIN:STANDARD
TZOFFSETFROM:-0400
TZOFFSETTO:-0500
TZNAME:EST
DTSTART:20261101T060000
END:STANDARD
END:VTIMEZONE
BEGIN:VEVENT
DTSTART;TZID=America/New_York:20250410T100000
DTEND;TZID=America/New_York:20250410T230000
DTSTAMP:20260419T205019
CREATED:20250406T160205Z
LAST-MODIFIED:20250406T160826Z
UID:79834-1744279200-1744326000@spacepolicyonline.com
SUMMARY:CONFLICT IN FOCUS: SPACE AND DATA DOMAIN LESSONS FROM RUSSIA-UKRAINE (CSIS)\, Apr 10\, 2025\, virtual\, 10:00-11:00 am ET
DESCRIPTION:The Center for Strategic and International Studies (CSIS) will hold a webinar on April 10\, 2025 from 10:00-11:00 am ET on “Space and Domain Lessons from Russia-Ukraine” as part of its “Conflict in Focus” series. \nMore information and registration instructions are on the event’s website\, which says: \nThe war in Ukraine has demonstrated significant strides in data technology and the integration of commercial capabilities and services in warfighting. In this week’s Conflict in Focus: Space and Data Domain panel\, Krista Auchenbach\, Office of the Secretary of Defense visiting fellow\, CSIS\, sat down with Aaron Jaffe\, Senior Vice President\, Palantir\, Dr. David Gauthier\, Chief Strategy Officer\, GXO\, Inc.\, and Senior Associate\, Aerospace Security Project\, CSIS\, and Giorgi Tskhakaia\, Advisor\, Ukraine’s Deputy Prime Minister\, and Minister of Digital Transformation and Innovations\, for a discussion on the role of space and data capabilities in the changing character of war.  \nThe Russia-Ukraine conflict shocked the world—unfolding a story of strategy\, resilience\, innovation\, and global implications. With battles fought on the ground\, in the skies\, on the seas\, and in cyberspace—this conflict has reshaped modern warfare. Conflict in Focus: Lessons from Russia-Ukraine is a limited series that delves into the hard-earned lessons from this war—pre-conflict strategies\, battlefield adaptations\, and their lasting impact. Each episode\, a CSIS military fellow sits down with special guests\, who have firsthand experience and deep expertise\, to focus on a vital domain. Their perspectives on air\, maritime\, land\, space\, cyber\, go beyond the frontlines\, shaping the future of warfare. \n 
URL:https://spacepolicyonline.com/events/conflict-in-focus-space-and-data-domain-lessons-from-russia-ukraine-csis-apr-10-2025-virtual-1000-1100-am-et/
END:VEVENT
END:VCALENDAR