BEGIN:VCALENDAR
VERSION:2.0
PRODID:-//SpacePolicyOnline.com - ECPv6.15.11//NONSGML v1.0//EN
CALSCALE:GREGORIAN
METHOD:PUBLISH
X-WR-CALNAME:SpacePolicyOnline.com
X-ORIGINAL-URL:https://spacepolicyonline.com
X-WR-CALDESC:Events for SpacePolicyOnline.com
REFRESH-INTERVAL;VALUE=DURATION:PT1H
X-Robots-Tag:noindex
X-PUBLISHED-TTL:PT1H
BEGIN:VTIMEZONE
TZID:America/New_York
BEGIN:DAYLIGHT
TZOFFSETFROM:-0500
TZOFFSETTO:-0400
TZNAME:EDT
DTSTART:20230312T070000
END:DAYLIGHT
BEGIN:STANDARD
TZOFFSETFROM:-0400
TZOFFSETTO:-0500
TZNAME:EST
DTSTART:20231105T060000
END:STANDARD
BEGIN:DAYLIGHT
TZOFFSETFROM:-0500
TZOFFSETTO:-0400
TZNAME:EDT
DTSTART:20240310T070000
END:DAYLIGHT
BEGIN:STANDARD
TZOFFSETFROM:-0400
TZOFFSETTO:-0500
TZNAME:EST
DTSTART:20241103T060000
END:STANDARD
BEGIN:DAYLIGHT
TZOFFSETFROM:-0500
TZOFFSETTO:-0400
TZNAME:EDT
DTSTART:20250309T070000
END:DAYLIGHT
BEGIN:STANDARD
TZOFFSETFROM:-0400
TZOFFSETTO:-0500
TZNAME:EST
DTSTART:20251102T060000
END:STANDARD
END:VTIMEZONE
BEGIN:VEVENT
DTSTART;TZID=America/New_York:20240918T150000
DTEND;TZID=America/New_York:20240918T230000
DTSTAMP:20260421T000656
CREATED:20240908T141255Z
LAST-MODIFIED:20240908T141255Z
UID:74003-1726671600-1726700400@spacepolicyonline.com
SUMMARY:CONGRESSIONAL GOLD MEDAL CEREMONY INCL "HIDDEN FIGURES\,"  Sept 18\, 2024\, DC\, 3:00 pm ET
DESCRIPTION:House Speaker Mike Johnson will preside over a Congressional Gold Medal ceremony in Emancipation Hall at the U.S. Capitol on September 18\, 2024 at 3:00 pm ET. \nAmong the honorees are four black women who were instrumental in the early day of the space program as computers (people who made mathematical computations before the era of mechanical computers)\, mathematicians and engineers and have become renowned as “Hidden Figures” based on the book of that title. \n\nCongressional Gold Medal to Katherine Johnson\, in recognition of her service to the United States as a mathematician\nCongressional Gold Medal to Dr. Christine Darden\, for her service to the United States as an aeronautical engineer\nCongressional Gold Medals in commemoration of the lives of Dorothy Vaughan and Mary Jackson\, in recognition of their service to the United States during the space race\nCongressional Gold Medal in recognition of all the women who served as computers\, mathematicians\, and engineers at the National Advisory Committee for Aeronautics and NASA between the 1930s and the 1970s.\n\nNASA Administrator Bill Nelson will be one of the speakers at the event\, which will be livestreamed on the Speaker’s YouTube channel.
URL:https://spacepolicyonline.com/events/congressional-gold-medal-ceremony-incl-hidden-figures-sept-18-2024-dc-300-pm-et/
END:VEVENT
END:VCALENDAR