BEGIN:VCALENDAR
VERSION:2.0
PRODID:-//SpacePolicyOnline.com - ECPv6.15.11//NONSGML v1.0//EN
CALSCALE:GREGORIAN
METHOD:PUBLISH
X-WR-CALNAME:SpacePolicyOnline.com
X-ORIGINAL-URL:https://spacepolicyonline.com
X-WR-CALDESC:Events for SpacePolicyOnline.com
REFRESH-INTERVAL;VALUE=DURATION:PT1H
X-Robots-Tag:noindex
X-PUBLISHED-TTL:PT1H
BEGIN:VTIMEZONE
TZID:America/New_York
BEGIN:DAYLIGHT
TZOFFSETFROM:-0500
TZOFFSETTO:-0400
TZNAME:EDT
DTSTART:20220313T070000
END:DAYLIGHT
BEGIN:STANDARD
TZOFFSETFROM:-0400
TZOFFSETTO:-0500
TZNAME:EST
DTSTART:20221106T060000
END:STANDARD
BEGIN:DAYLIGHT
TZOFFSETFROM:-0500
TZOFFSETTO:-0400
TZNAME:EDT
DTSTART:20230312T070000
END:DAYLIGHT
BEGIN:STANDARD
TZOFFSETFROM:-0400
TZOFFSETTO:-0500
TZNAME:EST
DTSTART:20231105T060000
END:STANDARD
BEGIN:DAYLIGHT
TZOFFSETFROM:-0500
TZOFFSETTO:-0400
TZNAME:EDT
DTSTART:20240310T070000
END:DAYLIGHT
BEGIN:STANDARD
TZOFFSETFROM:-0400
TZOFFSETTO:-0500
TZNAME:EST
DTSTART:20241103T060000
END:STANDARD
END:VTIMEZONE
BEGIN:VEVENT
DTSTART;TZID=America/New_York:20230104T073000
DTEND;TZID=America/New_York:20230107T230000
DTSTAMP:20260422T071515
CREATED:20221215T212741Z
LAST-MODIFIED:20221215T212832Z
UID:58687-1672817400-1673132400@spacepolicyonline.com
SUMMARY:CONSUMER ELECTRONICS SHOW (CES)\, Jan 4-7\, 2023\, Las Vegas/Digital
DESCRIPTION:The annual Consumer Electronics Show (CES) will take place in Las Vegas\, NV and digitally from January 4-7\, 2023.  Three sessions on Friday\, January 6\, are space-related. \nMore information is on the CES website. \n[Note: the CES home page says the conference is January 5-8\, but the schedule shows sessions on January 4-7.] \n \n 
URL:https://spacepolicyonline.com/events/consumer-electronics-show-ces-jan-4-7-2023-las-vegas-digital/
END:VEVENT
END:VCALENDAR