BEGIN:VCALENDAR
VERSION:2.0
PRODID:-//SpacePolicyOnline.com - ECPv6.15.11//NONSGML v1.0//EN
CALSCALE:GREGORIAN
METHOD:PUBLISH
X-WR-CALNAME:SpacePolicyOnline.com
X-ORIGINAL-URL:https://spacepolicyonline.com
X-WR-CALDESC:Events for SpacePolicyOnline.com
REFRESH-INTERVAL;VALUE=DURATION:PT1H
X-Robots-Tag:noindex
X-PUBLISHED-TTL:PT1H
BEGIN:VTIMEZONE
TZID:America/New_York
BEGIN:DAYLIGHT
TZOFFSETFROM:-0500
TZOFFSETTO:-0400
TZNAME:EDT
DTSTART:20160313T070000
END:DAYLIGHT
BEGIN:STANDARD
TZOFFSETFROM:-0400
TZOFFSETTO:-0500
TZNAME:EST
DTSTART:20161106T060000
END:STANDARD
BEGIN:DAYLIGHT
TZOFFSETFROM:-0500
TZOFFSETTO:-0400
TZNAME:EDT
DTSTART:20170312T070000
END:DAYLIGHT
BEGIN:STANDARD
TZOFFSETFROM:-0400
TZOFFSETTO:-0500
TZNAME:EST
DTSTART:20171105T060000
END:STANDARD
BEGIN:DAYLIGHT
TZOFFSETFROM:-0500
TZOFFSETTO:-0400
TZNAME:EDT
DTSTART:20180311T070000
END:DAYLIGHT
BEGIN:STANDARD
TZOFFSETFROM:-0400
TZOFFSETTO:-0500
TZNAME:EST
DTSTART:20181104T060000
END:STANDARD
END:VTIMEZONE
BEGIN:VEVENT
DTSTART;TZID=America/New_York:20171012T080000
DTEND;TZID=America/New_York:20171012T230000
DTSTAMP:20260422T210813
CREATED:20171012T023229Z
LAST-MODIFIED:20171012T023229Z
UID:11064-1507795200-1507849200@spacepolicyonline.com
SUMMARY:CONVERGENCE: ASTEROID MINING AND THE PRIVATIZATION OF SPACE\, Oct 12\, 2017\, New York City\, 8-10 pm ET
DESCRIPTION:A discussion about Asteroid Mining and the Privatization of Space will take place at Caveat\,  21 A Clinton Street\, New York\, New York on October 12\, 2017 from 8:00-10:00 pm ET.  Participants are: \n\nMeehan Crist\, writer in residence in biological sciences\, Columbia University\, moderator\nAtossa Araxia Abrahamian\, journalist and author of The Cosmopolites: The Coming of the Global Citizen\nDenton Ebel\, geologist\, chair of the Division of Physical Sciences\, American Museum of Natural History\n\nMore information is on the event’s website and in an emailed announcement (reproduced below) that includes a promo code for $5 off the $15 admission fee. \nCONVERGENCE: a show about the future\n\nJoin us for Convergence at Caveat on Thurs\, 10/12!\n\n\nThis month\, I’ll be hosting geologist Denton Ebel of the American Museum of Natural History and journalist Atossa Abrahamian to discuss: How is asteroid mining already privatizing space?\n\n\n\nWe’ll be discussing everything from the rare earth metals in your iPhone to sovereignty and space law to the colonization of Mars…\n\n\nConvergence is a new live show (and soon-to-be podcast) that brings two people from vastly different fields into conversation about how emerging science and tech will affect culture\, society\, and politics in the near future. How will machine learning (really) affect labor? How will a new artificial womb influence women’s health and reproductive rights? What new science is already on the horizon what ethical\, legal\, and policy questions do we need to ask today to help shape the future we want tomorrow?\n\n\nTickets available here. Enter promo code CONVERGESWILD at checkout for $5 off the $15 ticket price!\n\n\n\nI hope to see some of you Thursday.\n\nx.Meehan
URL:https://spacepolicyonline.com/events/convergence-asteroid-mining-and-the-privatization-of-space-oct-12-2017-new-york-city-8-10-pm-et/
END:VEVENT
END:VCALENDAR