BEGIN:VCALENDAR
VERSION:2.0
PRODID:-//SpacePolicyOnline.com - ECPv6.15.11//NONSGML v1.0//EN
CALSCALE:GREGORIAN
METHOD:PUBLISH
X-WR-CALNAME:SpacePolicyOnline.com
X-ORIGINAL-URL:https://spacepolicyonline.com
X-WR-CALDESC:Events for SpacePolicyOnline.com
REFRESH-INTERVAL;VALUE=DURATION:PT1H
X-Robots-Tag:noindex
X-PUBLISHED-TTL:PT1H
BEGIN:VTIMEZONE
TZID:America/New_York
BEGIN:DAYLIGHT
TZOFFSETFROM:-0500
TZOFFSETTO:-0400
TZNAME:EDT
DTSTART:20240310T070000
END:DAYLIGHT
BEGIN:STANDARD
TZOFFSETFROM:-0400
TZOFFSETTO:-0500
TZNAME:EST
DTSTART:20241103T060000
END:STANDARD
BEGIN:DAYLIGHT
TZOFFSETFROM:-0500
TZOFFSETTO:-0400
TZNAME:EDT
DTSTART:20250309T070000
END:DAYLIGHT
BEGIN:STANDARD
TZOFFSETFROM:-0400
TZOFFSETTO:-0500
TZNAME:EST
DTSTART:20251102T060000
END:STANDARD
BEGIN:DAYLIGHT
TZOFFSETFROM:-0500
TZOFFSETTO:-0400
TZNAME:EDT
DTSTART:20260308T070000
END:DAYLIGHT
BEGIN:STANDARD
TZOFFSETFROM:-0400
TZOFFSETTO:-0500
TZNAME:EST
DTSTART:20261101T060000
END:STANDARD
END:VTIMEZONE
BEGIN:VEVENT
DTSTART;TZID=America/New_York:20250801T133000
DTEND;TZID=America/New_York:20250801T230000
DTSTAMP:20260419T170116
CREATED:20250725T010608Z
LAST-MODIFIED:20250801T032431Z
UID:82792-1754055000-1754089200@spacepolicyonline.com
SUMMARY:CREW-11 POST-LAUNCH NEWS CONFERENCE\, Aug 1\, 2025\, KSC\, 1:00 pm ET
DESCRIPTION:Update\,  July 31:  The launch was scrubbed 1 minute and 7 seconds before liftoff due to weather. NASA will try again tomorrow\, August 1\, at 11:43 am ET.  This post-launch press conference shifts to tomorrow as well\, but at 1:00 pm ET instead of 1:30 pm ET. Rocosmos Director General Dmitry Bakanov is now listed as a participant. \n\nKen Bowersox\, associate administrator\, NASA’s Space Operations Mission Directorate\nSteve Stich\, manager\, NASA’s Commercial Crew Program\nDana Weigel\, manager\, NASA’s International Space Station Program\nDmitry Bakanov\, director general\, Roscosmos\nKazuyoshi Kawasaki\, associate director general\, Space Exploration Center/Space Exploration Innovation Hub Center\, JAXA\nSarah Walker\, director\, Dragon Mission Management\, SpaceX\n\nOriginal Entry: If Crew-11 launches at 12:09 pm ET on July 31 as planned\, a post-launch press conference will take place at Kennedy Space Center at 1:30 pm ET.  It will be livestreamed on NASA’s YouTube channel. \nParticipants are: \n1:30 p.m. – Postlaunch news conference with the following participants: \n·      Ken Bowersox\, associate administrator\, NASA’s Space Operations Mission Directorate \n·      Steve Stich\, manager\, NASA’s Commercial Crew Program \n·      Dana Weigel\, manager\, NASA’s International Space Station Program \n·      Sergei Krikalev\, deputy director general\, Manned and Automated Complexes\, Roscosmos \n·      Kazuyoshi Kawasaki\, associate director general\, Space Exploration Center/Space Exploration Innovation Hub Center\, JAXA \n·      Sarah Walker\, director\, Dragon Mission Management\, SpaceX
URL:https://spacepolicyonline.com/events/crew-11-post-launch-news-conference-july-31-2025-ksc-130-pm-et/
END:VEVENT
END:VCALENDAR