BEGIN:VCALENDAR
VERSION:2.0
PRODID:-//SpacePolicyOnline.com - ECPv6.15.11//NONSGML v1.0//EN
CALSCALE:GREGORIAN
METHOD:PUBLISH
X-WR-CALNAME:SpacePolicyOnline.com
X-ORIGINAL-URL:https://spacepolicyonline.com
X-WR-CALDESC:Events for SpacePolicyOnline.com
REFRESH-INTERVAL;VALUE=DURATION:PT1H
X-Robots-Tag:noindex
X-PUBLISHED-TTL:PT1H
BEGIN:VTIMEZONE
TZID:America/New_York
BEGIN:DAYLIGHT
TZOFFSETFROM:-0500
TZOFFSETTO:-0400
TZNAME:EDT
DTSTART:20240310T070000
END:DAYLIGHT
BEGIN:STANDARD
TZOFFSETFROM:-0400
TZOFFSETTO:-0500
TZNAME:EST
DTSTART:20241103T060000
END:STANDARD
BEGIN:DAYLIGHT
TZOFFSETFROM:-0500
TZOFFSETTO:-0400
TZNAME:EDT
DTSTART:20250309T070000
END:DAYLIGHT
BEGIN:STANDARD
TZOFFSETFROM:-0400
TZOFFSETTO:-0500
TZNAME:EST
DTSTART:20251102T060000
END:STANDARD
BEGIN:DAYLIGHT
TZOFFSETFROM:-0500
TZOFFSETTO:-0400
TZNAME:EDT
DTSTART:20260308T070000
END:DAYLIGHT
BEGIN:STANDARD
TZOFFSETFROM:-0400
TZOFFSETTO:-0500
TZNAME:EST
DTSTART:20261101T060000
END:STANDARD
END:VTIMEZONE
BEGIN:VEVENT
DTSTART;TZID=America/New_York:20250730T173000
DTEND;TZID=America/New_York:20250730T230000
DTSTAMP:20260419T141615
CREATED:20250725T005933Z
LAST-MODIFIED:20250725T005933Z
UID:82788-1753896600-1753916400@spacepolicyonline.com
SUMMARY:CREW-11 PRE-LAUNCH NEWS CONFERENCE\, July 30\, 2025\, KSC\, 5:30 pm ET
DESCRIPTION:NASA will hold a pre-launch news conference at Kennedy Space Center on July 30\, 2025 at 5:30 pm ET in preparation for the launch of Crew-11 to the International Space Station\, which is scheduled for July 31 at 12:09 pm ET. \nThe news conference will be livestreamed on NASA’s YouTube channel. \nParticipants are: \n·      Ken Bowersox\, associate administrator\, NASA’s Space Operations Mission Directorate \n·      Steve Stich\, manager\, NASA’s Commercial Crew Program \n·      Dana Weigel\, manager\, NASA’s International Space Station Program \n·      William Gerstenmaier\, vice president\, Build and Flight Reliability\, SpaceX \n·      Sergei Krikalev\, deputy director general\, Manned and Automated Complexes\, Roscosmos \n·      Naoki Nagai\, program manager\, International Space Station\, Human Spaceflight Technology Directorate\, JAXA
URL:https://spacepolicyonline.com/events/crew-11-pre-launch-news-conference-july-30-2025-ksc-530-pm-et/
END:VEVENT
END:VCALENDAR