BEGIN:VCALENDAR
VERSION:2.0
PRODID:-//SpacePolicyOnline.com - ECPv6.15.11//NONSGML v1.0//EN
CALSCALE:GREGORIAN
METHOD:PUBLISH
X-WR-CALNAME:SpacePolicyOnline.com
X-ORIGINAL-URL:https://spacepolicyonline.com
X-WR-CALDESC:Events for SpacePolicyOnline.com
REFRESH-INTERVAL;VALUE=DURATION:PT1H
X-Robots-Tag:noindex
X-PUBLISHED-TTL:PT1H
BEGIN:VTIMEZONE
TZID:America/New_York
BEGIN:DAYLIGHT
TZOFFSETFROM:-0500
TZOFFSETTO:-0400
TZNAME:EDT
DTSTART:20200308T070000
END:DAYLIGHT
BEGIN:STANDARD
TZOFFSETFROM:-0400
TZOFFSETTO:-0500
TZNAME:EST
DTSTART:20201101T060000
END:STANDARD
BEGIN:DAYLIGHT
TZOFFSETFROM:-0500
TZOFFSETTO:-0400
TZNAME:EDT
DTSTART:20210314T070000
END:DAYLIGHT
BEGIN:STANDARD
TZOFFSETFROM:-0400
TZOFFSETTO:-0500
TZNAME:EST
DTSTART:20211107T060000
END:STANDARD
BEGIN:DAYLIGHT
TZOFFSETFROM:-0500
TZOFFSETTO:-0400
TZNAME:EDT
DTSTART:20220313T070000
END:DAYLIGHT
BEGIN:STANDARD
TZOFFSETFROM:-0400
TZOFFSETTO:-0500
TZNAME:EST
DTSTART:20221106T060000
END:STANDARD
END:VTIMEZONE
BEGIN:VEVENT
DTSTART;TZID=America/New_York:20211111T000100
DTEND;TZID=America/New_York:20211111T230000
DTSTAMP:20260420T135916
CREATED:20211109T124937Z
LAST-MODIFIED:20211111T204638Z
UID:48123-1636588860-1636671600@spacepolicyonline.com
SUMMARY:CREW-3 ARRIVAL AT ISS\, Nov 11\, 2021\, Earth orbit\, dock 6:33 pm ET
DESCRIPTION:Update\, November 11\, 3:40 pm ET:  NASA just tweeted that Crew03 is ahead of schedule and will dock at 6:33 pm ET\, not 7:10 pm ET.  It said hatch opening and the ceremony will also move\, but not provide the new times. \n\nUPDATE ➡️ Crew Dragon Endurance is now expected to dock with the @Space_Station at 6:33pm ET. \nThe hatch opening and welcome ceremony are also expected to move ahead in the timeline. https://t.co/Hg6gHFXoeD \n— NASA Commercial Crew (@Commercial_Crew) November 11\, 2021 \n \n  \nOriginal Entry: If Crew-3 launches on its current schedule (November 10\, 2021 at 9:03 pm ET)\, it will dock at the International Space Station on November 11 at 7:10 pm ET. Hatch opening will take place at approximately 8:45 pm ET and a welcome ceremony at 9:20 pm ET. \nNASA TV will provide continuous coverage of launch through the welcome ceremony beginning at 4:45 pm ET November 10. \n 
URL:https://spacepolicyonline.com/events/crew-3-arrival-at-iss-nov-11-2021-earth-orbit-dock-710-pm-et/
END:VEVENT
END:VCALENDAR