BEGIN:VCALENDAR
VERSION:2.0
PRODID:-//SpacePolicyOnline.com - ECPv6.15.11//NONSGML v1.0//EN
CALSCALE:GREGORIAN
METHOD:PUBLISH
X-WR-CALNAME:SpacePolicyOnline.com
X-ORIGINAL-URL:https://spacepolicyonline.com
X-WR-CALDESC:Events for SpacePolicyOnline.com
REFRESH-INTERVAL;VALUE=DURATION:PT1H
X-Robots-Tag:noindex
X-PUBLISHED-TTL:PT1H
BEGIN:VTIMEZONE
TZID:America/New_York
BEGIN:DAYLIGHT
TZOFFSETFROM:-0500
TZOFFSETTO:-0400
TZNAME:EDT
DTSTART:20220313T070000
END:DAYLIGHT
BEGIN:STANDARD
TZOFFSETFROM:-0400
TZOFFSETTO:-0500
TZNAME:EST
DTSTART:20221106T060000
END:STANDARD
BEGIN:DAYLIGHT
TZOFFSETFROM:-0500
TZOFFSETTO:-0400
TZNAME:EDT
DTSTART:20230312T070000
END:DAYLIGHT
BEGIN:STANDARD
TZOFFSETFROM:-0400
TZOFFSETTO:-0500
TZNAME:EST
DTSTART:20231105T060000
END:STANDARD
BEGIN:DAYLIGHT
TZOFFSETFROM:-0500
TZOFFSETTO:-0400
TZNAME:EDT
DTSTART:20240310T070000
END:DAYLIGHT
BEGIN:STANDARD
TZOFFSETFROM:-0400
TZOFFSETTO:-0500
TZNAME:EST
DTSTART:20241103T060000
END:STANDARD
END:VTIMEZONE
BEGIN:VEVENT
DTSTART;TZID=America/New_York:20230301T123000
DTEND;TZID=America/New_York:20230301T230000
DTSTAMP:20260425T212813
CREATED:20230226T163433Z
LAST-MODIFIED:20230226T163433Z
UID:60144-1677673800-1677711600@spacepolicyonline.com
SUMMARY:CREW-5 ON-ORBIT PRE-DEPARTURE NEWS CONFERENCE\, Mar 1\, 2023\, Earth orbit\, 12:30 pm ET
DESCRIPTION:NASA’s Crew-5 is getting ready to return home after six months on the International Space Station. The exact date for their return is not set\, but will be about five days after Crew-6 arrives\, currently scheduled for February 28\, 2023. \nOn March 1\, 2023 at 12:30 pm ET\, Crew-5 will hold an on-orbit pre-departure news conference that will be broadcast on NASA TV according to the NASA TV schedule posted February 26.
URL:https://spacepolicyonline.com/events/crew-5-on-orbit-pre-departure-news-conference-mar-1-2023-earth-orbit-1230-pm-et/
END:VEVENT
END:VCALENDAR