BEGIN:VCALENDAR
VERSION:2.0
PRODID:-//SpacePolicyOnline.com - ECPv6.15.11//NONSGML v1.0//EN
CALSCALE:GREGORIAN
METHOD:PUBLISH
X-WR-CALNAME:SpacePolicyOnline.com
X-ORIGINAL-URL:https://spacepolicyonline.com
X-WR-CALDESC:Events for SpacePolicyOnline.com
REFRESH-INTERVAL;VALUE=DURATION:PT1H
X-Robots-Tag:noindex
X-PUBLISHED-TTL:PT1H
BEGIN:VTIMEZONE
TZID:America/New_York
BEGIN:DAYLIGHT
TZOFFSETFROM:-0500
TZOFFSETTO:-0400
TZNAME:EDT
DTSTART:20200308T070000
END:DAYLIGHT
BEGIN:STANDARD
TZOFFSETFROM:-0400
TZOFFSETTO:-0500
TZNAME:EST
DTSTART:20201101T060000
END:STANDARD
BEGIN:DAYLIGHT
TZOFFSETFROM:-0500
TZOFFSETTO:-0400
TZNAME:EDT
DTSTART:20210314T070000
END:DAYLIGHT
BEGIN:STANDARD
TZOFFSETFROM:-0400
TZOFFSETTO:-0500
TZNAME:EST
DTSTART:20211107T060000
END:STANDARD
BEGIN:DAYLIGHT
TZOFFSETFROM:-0500
TZOFFSETTO:-0400
TZNAME:EDT
DTSTART:20220313T070000
END:DAYLIGHT
BEGIN:STANDARD
TZOFFSETFROM:-0400
TZOFFSETTO:-0500
TZNAME:EST
DTSTART:20221106T060000
END:STANDARD
END:VTIMEZONE
BEGIN:VEVENT
DTSTART;TZID=America/New_York:20211110T070000
DTEND;TZID=America/New_York:20211111T230000
DTSTAMP:20260420T154335
CREATED:20211026T120903Z
LAST-MODIFIED:20211026T120926Z
UID:47779-1636527600-1636671600@spacepolicyonline.com
SUMMARY:CYBER AND SPACE SECURITY CONFERENCE\, Nov 10-11\, 2021\, Tallinn\, Estonia/hybrid
DESCRIPTION:Enterprise Estonia and the Estonian Ministry of Economic Affairs and Communications will hold its first Cyber and Space Security Conference in a hybrid format\, in-person and online\, from November 10-11\, 2021.  The in-person meeting is at the Innovation and Business Center Mektory\, Raja 15\, 12616\, Tallinn\, Estonia. \nMore information is on the event’s website.
URL:https://spacepolicyonline.com/events/cyber-and-space-security-conference-nov-10-11-2021-tallinn-estonia-hybrid/
END:VEVENT
END:VCALENDAR