BEGIN:VCALENDAR
VERSION:2.0
PRODID:-//SpacePolicyOnline.com - ECPv6.15.11//NONSGML v1.0//EN
CALSCALE:GREGORIAN
METHOD:PUBLISH
X-WR-CALNAME:SpacePolicyOnline.com
X-ORIGINAL-URL:https://spacepolicyonline.com
X-WR-CALDESC:Events for SpacePolicyOnline.com
REFRESH-INTERVAL;VALUE=DURATION:PT1H
X-Robots-Tag:noindex
X-PUBLISHED-TTL:PT1H
BEGIN:VTIMEZONE
TZID:America/New_York
BEGIN:DAYLIGHT
TZOFFSETFROM:-0500
TZOFFSETTO:-0400
TZNAME:EDT
DTSTART:20210314T070000
END:DAYLIGHT
BEGIN:STANDARD
TZOFFSETFROM:-0400
TZOFFSETTO:-0500
TZNAME:EST
DTSTART:20211107T060000
END:STANDARD
BEGIN:DAYLIGHT
TZOFFSETFROM:-0500
TZOFFSETTO:-0400
TZNAME:EDT
DTSTART:20220313T070000
END:DAYLIGHT
BEGIN:STANDARD
TZOFFSETFROM:-0400
TZOFFSETTO:-0500
TZNAME:EST
DTSTART:20221106T060000
END:STANDARD
BEGIN:DAYLIGHT
TZOFFSETFROM:-0500
TZOFFSETTO:-0400
TZNAME:EDT
DTSTART:20230312T070000
END:DAYLIGHT
BEGIN:STANDARD
TZOFFSETFROM:-0400
TZOFFSETTO:-0500
TZNAME:EST
DTSTART:20231105T060000
END:STANDARD
END:VTIMEZONE
BEGIN:VEVENT
DTSTART;TZID=America/New_York:20221101T073000
DTEND;TZID=America/New_York:20221103T230000
DTSTAMP:20260424T145409
CREATED:20220820T201326Z
LAST-MODIFIED:20220820T201326Z
UID:55715-1667287800-1667516400@spacepolicyonline.com
SUMMARY:CyberSatGov\, Nov 1-3\, 2022\, Reston\, VA
DESCRIPTION:CyberSatGov will take place in Reston\, VA from November 1-3\, 2022. November 1 is a classified meeting that will take place at the Aerospace Corporation offices. The other two days are unclassified and will take place at the Hyatt Regency Reston\, Reston\, VA. \nMore information is on the event’s website\, which says: \nCyberSatGov is a unique and powerful opportunity to better understand the most pressing cybersecurity threats to satellites and the potential impact these threats have on your company’s interests\, your readiness to adapt to these threats\, and how to best prevent attacks. The challenge going forward for satellite industry professionals extends far beyond just the rising number of cyber threats; we’re also seeing new areas for exploitation. \nDon’t miss this opportunity to join like-minded colleagues\, high ranking intelligence and DoD officials\, cybersecurity professionals\, satellite industry providers and integrators in dynamic\, high-level discussion\, one-on-one networking\, and informative\, solution-oriented sessions.
URL:https://spacepolicyonline.com/events/cybersatgov-nov-1-3-2022-reston-va/
END:VEVENT
END:VCALENDAR