BEGIN:VCALENDAR
VERSION:2.0
PRODID:-//SpacePolicyOnline.com - ECPv6.15.11//NONSGML v1.0//EN
CALSCALE:GREGORIAN
METHOD:PUBLISH
X-WR-CALNAME:SpacePolicyOnline.com
X-ORIGINAL-URL:https://spacepolicyonline.com
X-WR-CALDESC:Events for SpacePolicyOnline.com
REFRESH-INTERVAL;VALUE=DURATION:PT1H
X-Robots-Tag:noindex
X-PUBLISHED-TTL:PT1H
BEGIN:VTIMEZONE
TZID:America/New_York
BEGIN:DAYLIGHT
TZOFFSETFROM:-0500
TZOFFSETTO:-0400
TZNAME:EDT
DTSTART:20180311T070000
END:DAYLIGHT
BEGIN:STANDARD
TZOFFSETFROM:-0400
TZOFFSETTO:-0500
TZNAME:EST
DTSTART:20181104T060000
END:STANDARD
BEGIN:DAYLIGHT
TZOFFSETFROM:-0500
TZOFFSETTO:-0400
TZNAME:EDT
DTSTART:20190310T070000
END:DAYLIGHT
BEGIN:STANDARD
TZOFFSETFROM:-0400
TZOFFSETTO:-0500
TZNAME:EST
DTSTART:20191103T060000
END:STANDARD
BEGIN:DAYLIGHT
TZOFFSETFROM:-0500
TZOFFSETTO:-0400
TZNAME:EDT
DTSTART:20200308T070000
END:DAYLIGHT
BEGIN:STANDARD
TZOFFSETFROM:-0400
TZOFFSETTO:-0500
TZNAME:EST
DTSTART:20201101T060000
END:STANDARD
END:VTIMEZONE
BEGIN:VEVENT
DTSTART;TZID=America/New_York:20190924T120000
DTEND;TZID=America/New_York:20190924T230000
DTSTAMP:20260422T183821
CREATED:20190913T213957Z
LAST-MODIFIED:20190922T195145Z
UID:28889-1569326400-1569366000@spacepolicyonline.com
SUMMARY:DAY WITHOUT SPACE: ENABLING AMERICAN COMMERCE\, Sept 24\, 2019\, DC\, 12:00-1:00 pm ET
DESCRIPTION:The Space Foundation\, CompTIA’s Space Enterprise Council and the GPS Innovation Alliance will hold a lunch briefing on September 24\, 2019 in 2325 Rayburn House Office Building from 12:00-1:00 pm ET on a “Day Without Space: Enabling American Commerce.” \nMore information and an RSVP link are posted on the event’s website. \nSpeakers are: \n\nCurtis Hay\, Technical Fellow\, GPS & Maps\, General Motors\nAjay Mehta\, Senior Advisor\, NOAA NESDIS\nDeborah Lawrence\, Manager\, Navigation Programs\, FAA\nCaptain David Sambrano\, Flight Operations Duty Manager\, United Airlines
URL:https://spacepolicyonline.com/events/day-without-space-enabling-american-commerce-sept-24-2019-dc-1200-100-pm-et/
END:VEVENT
END:VCALENDAR