BEGIN:VCALENDAR
VERSION:2.0
PRODID:-//SpacePolicyOnline.com - ECPv6.15.11//NONSGML v1.0//EN
CALSCALE:GREGORIAN
METHOD:PUBLISH
X-WR-CALNAME:SpacePolicyOnline.com
X-ORIGINAL-URL:https://spacepolicyonline.com
X-WR-CALDESC:Events for SpacePolicyOnline.com
REFRESH-INTERVAL;VALUE=DURATION:PT1H
X-Robots-Tag:noindex
X-PUBLISHED-TTL:PT1H
BEGIN:VTIMEZONE
TZID:America/New_York
BEGIN:DAYLIGHT
TZOFFSETFROM:-0500
TZOFFSETTO:-0400
TZNAME:EDT
DTSTART:20210314T070000
END:DAYLIGHT
BEGIN:STANDARD
TZOFFSETFROM:-0400
TZOFFSETTO:-0500
TZNAME:EST
DTSTART:20211107T060000
END:STANDARD
BEGIN:DAYLIGHT
TZOFFSETFROM:-0500
TZOFFSETTO:-0400
TZNAME:EDT
DTSTART:20220313T070000
END:DAYLIGHT
BEGIN:STANDARD
TZOFFSETFROM:-0400
TZOFFSETTO:-0500
TZNAME:EST
DTSTART:20221106T060000
END:STANDARD
BEGIN:DAYLIGHT
TZOFFSETFROM:-0500
TZOFFSETTO:-0400
TZNAME:EDT
DTSTART:20230312T070000
END:DAYLIGHT
BEGIN:STANDARD
TZOFFSETFROM:-0400
TZOFFSETTO:-0500
TZNAME:EST
DTSTART:20231105T060000
END:STANDARD
END:VTIMEZONE
BEGIN:VEVENT
DTSTART;TZID=America/New_York:20220222T073000
DTEND;TZID=America/New_York:20220224T230000
DTSTAMP:20260419T234408
CREATED:20211207T184200Z
LAST-MODIFIED:20220220T184451Z
UID:48958-1645515000-1645743600@spacepolicyonline.com
SUMMARY:DEFENSE AND INTELLIGENCE SPACE CONFERENCE\, Feb 22-24\, 2022\, Chantilly\, VA
DESCRIPTION:The National Security Space Association (NSSA) will hold its “first-ever in-person” Defense and Intelligence Space Conference at the Westfields Marriott in Chantilly\, VA. \nA classified day of events is on February 22. February 23-24 is unclassified. \nThe emailed announcement says: \nThis jam-packed two-day event\, featuring both unclassified and TS/SCI content\, will uniquely focus on National Security Space and provide a platform for key leaders of the community to engage in fulsome dialogue on topics vitally important to our security posture. Through presentations of rich and relevant content\, this conference will foster unity of effort and integration across government and industry. \nMore information and a registration link are on the event’s website.
URL:https://spacepolicyonline.com/events/defense-and-intelligence-space-conference-feb-23-24-2022-chantilly-va/
END:VEVENT
END:VCALENDAR