BEGIN:VCALENDAR
VERSION:2.0
PRODID:-//SpacePolicyOnline.com - ECPv6.15.11//NONSGML v1.0//EN
CALSCALE:GREGORIAN
METHOD:PUBLISH
X-WR-CALNAME:SpacePolicyOnline.com
X-ORIGINAL-URL:https://spacepolicyonline.com
X-WR-CALDESC:Events for SpacePolicyOnline.com
REFRESH-INTERVAL;VALUE=DURATION:PT1H
X-Robots-Tag:noindex
X-PUBLISHED-TTL:PT1H
BEGIN:VTIMEZONE
TZID:America/New_York
BEGIN:DAYLIGHT
TZOFFSETFROM:-0500
TZOFFSETTO:-0400
TZNAME:EDT
DTSTART:20220313T070000
END:DAYLIGHT
BEGIN:STANDARD
TZOFFSETFROM:-0400
TZOFFSETTO:-0500
TZNAME:EST
DTSTART:20221106T060000
END:STANDARD
BEGIN:DAYLIGHT
TZOFFSETFROM:-0500
TZOFFSETTO:-0400
TZNAME:EDT
DTSTART:20230312T070000
END:DAYLIGHT
BEGIN:STANDARD
TZOFFSETFROM:-0400
TZOFFSETTO:-0500
TZNAME:EST
DTSTART:20231105T060000
END:STANDARD
BEGIN:DAYLIGHT
TZOFFSETFROM:-0500
TZOFFSETTO:-0400
TZNAME:EDT
DTSTART:20240310T070000
END:DAYLIGHT
BEGIN:STANDARD
TZOFFSETFROM:-0400
TZOFFSETTO:-0500
TZNAME:EST
DTSTART:20241103T060000
END:STANDARD
END:VTIMEZONE
BEGIN:VEVENT
DTSTART;TZID=America/New_York:20230105T150000
DTEND;TZID=America/New_York:20230105T230000
DTSTAMP:20260422T074404
CREATED:20221217T171850Z
LAST-MODIFIED:20230101T170042Z
UID:58751-1672930800-1672959600@spacepolicyonline.com
SUMMARY:DEFYING GRAVITY AND OVERCOMING INERTIA\, WITH DAVID MILLER (Univ of Washington)\, Jan 5\, 2023\, hybrid\, 3:00 pm ET
DESCRIPTION:Update\, January 1: The meeting will be at the Student Union Building (HUB). The Zoom link for those participating virtually is on the event’s website. \nOriginal Entry: The Space Policy and Research Center (SPARC) at the University of Washington will hold its next Space Dialogue on January 5\, 2023 as a hybrid event at 12:00 pm PACIFIC Time (3:00 pm Eastern). \nThe speaker is David Miller. \nDavid W. Miller is the former Director of the Space Systems Laboratory and the Jerome C. Hunsaker Professor in the Department of Aeronautics and Astronautics at M.I.T. Prof. Miller has played an engineering role in the development of space-based apertures.  He was a member of the JWST Product Integrity Team and the Vice Chair of the Air Force Scientific Advisory Board. He recently served two and a half years as NASA’s Chief Technologist at NASA Headquarters in Washington\, DC and three years as Vice President and Chief Technology Officer at the Aerospace Corporation. He is currently the Technologist for the Astronomy and Physics Directorate at JPL. \nHis topic is “Defying Gravity and Overcoming Inertia.” \nThe in-person location at the University of Washington (UW) is TBD as of December 17.  More information and a registration link for the Zoom meeting are on the event’s website.
URL:https://spacepolicyonline.com/events/defying-gravity-and-overcoming-inertia-with-david-miller-univ-of-washington-jan-5-2023-hybrid-300-pm-et/
END:VEVENT
END:VCALENDAR