BEGIN:VCALENDAR
VERSION:2.0
PRODID:-//SpacePolicyOnline.com - ECPv6.15.11//NONSGML v1.0//EN
CALSCALE:GREGORIAN
METHOD:PUBLISH
X-WR-CALNAME:SpacePolicyOnline.com
X-ORIGINAL-URL:https://spacepolicyonline.com
X-WR-CALDESC:Events for SpacePolicyOnline.com
REFRESH-INTERVAL;VALUE=DURATION:PT1H
X-Robots-Tag:noindex
X-PUBLISHED-TTL:PT1H
BEGIN:VTIMEZONE
TZID:America/New_York
BEGIN:DAYLIGHT
TZOFFSETFROM:-0500
TZOFFSETTO:-0400
TZNAME:EDT
DTSTART:20230312T070000
END:DAYLIGHT
BEGIN:STANDARD
TZOFFSETFROM:-0400
TZOFFSETTO:-0500
TZNAME:EST
DTSTART:20231105T060000
END:STANDARD
BEGIN:DAYLIGHT
TZOFFSETFROM:-0500
TZOFFSETTO:-0400
TZNAME:EDT
DTSTART:20240310T070000
END:DAYLIGHT
BEGIN:STANDARD
TZOFFSETFROM:-0400
TZOFFSETTO:-0500
TZNAME:EST
DTSTART:20241103T060000
END:STANDARD
BEGIN:DAYLIGHT
TZOFFSETFROM:-0500
TZOFFSETTO:-0400
TZNAME:EDT
DTSTART:20250309T070000
END:DAYLIGHT
BEGIN:STANDARD
TZOFFSETFROM:-0400
TZOFFSETTO:-0500
TZNAME:EST
DTSTART:20251102T060000
END:STANDARD
END:VTIMEZONE
BEGIN:VEVENT
DTSTART;TZID=America/New_York:20240422T090000
DTEND;TZID=America/New_York:20240422T230000
DTSTAMP:20260421T053344
CREATED:20240412T021323Z
LAST-MODIFIED:20240421T151315Z
UID:70463-1713776400-1713826800@spacepolicyonline.com
SUMMARY:EARTH DAY 2024\, April 22\, 2024\, global
DESCRIPTION:April 22 has been celebrated as Earth Day every year since 1970. Events take place globally. \nThe theme for 2024 is “Planet vs. Plastics.” \nEarthDay.org is a good place to start to find events near you. \nNASA often holds events over several days to highlight the contributions of satellite data to understanding the Earth system. \nIn 2024\, at NASA HQ in Washington\, DC\, it will: \n\nhave a series of “Water  Touches Everything” in-person and virtual events from April 18 at 9:00 am ET through April 19 at 5:00 pm ET at its Earth Information Center in the lobby and\nhave a media briefing on April 19 at 11:00 am ET in the Auditorium (airing on NASA TV) with an update on climate and earth science programs.\n\nIn addition\, NASA Administrator Bill Nelson and Deputy Administrator Pam Melroy will visit Mexico April 22-23 to meet with Mexico’s President (pending confirmation) and Mexican Space Agency (AEM) leaders to discuss bilateral cooperation in a number of areas including earth science. \nAlthough many in the space community associate Earth Day and the public’s greater appreciation of the fragility of our planet to the images sent back by the Apollo 8 crew in December 1968\, the Earth Day website makes no mention of the space program as a catalyst\, but rather a January 1969 oil spill in Santa Barbara\, CA.
URL:https://spacepolicyonline.com/events/earth-day-2024-april-22-2024-global/
END:VEVENT
END:VCALENDAR