BEGIN:VCALENDAR
VERSION:2.0
PRODID:-//SpacePolicyOnline.com - ECPv6.15.11//NONSGML v1.0//EN
CALSCALE:GREGORIAN
METHOD:PUBLISH
X-WR-CALNAME:SpacePolicyOnline.com
X-ORIGINAL-URL:https://spacepolicyonline.com
X-WR-CALDESC:Events for SpacePolicyOnline.com
REFRESH-INTERVAL;VALUE=DURATION:PT1H
X-Robots-Tag:noindex
X-PUBLISHED-TTL:PT1H
BEGIN:VTIMEZONE
TZID:America/New_York
BEGIN:DAYLIGHT
TZOFFSETFROM:-0500
TZOFFSETTO:-0400
TZNAME:EDT
DTSTART:20240310T070000
END:DAYLIGHT
BEGIN:STANDARD
TZOFFSETFROM:-0400
TZOFFSETTO:-0500
TZNAME:EST
DTSTART:20241103T060000
END:STANDARD
BEGIN:DAYLIGHT
TZOFFSETFROM:-0500
TZOFFSETTO:-0400
TZNAME:EDT
DTSTART:20250309T070000
END:DAYLIGHT
BEGIN:STANDARD
TZOFFSETFROM:-0400
TZOFFSETTO:-0500
TZNAME:EST
DTSTART:20251102T060000
END:STANDARD
BEGIN:DAYLIGHT
TZOFFSETFROM:-0500
TZOFFSETTO:-0400
TZNAME:EDT
DTSTART:20260308T070000
END:DAYLIGHT
BEGIN:STANDARD
TZOFFSETFROM:-0400
TZOFFSETTO:-0500
TZNAME:EST
DTSTART:20261101T060000
END:STANDARD
END:VTIMEZONE
BEGIN:VEVENT
DTSTART;TZID=America/New_York:20250422T120000
DTEND;TZID=America/New_York:20250422T230000
DTSTAMP:20260419T193055
CREATED:20250419T155701Z
LAST-MODIFIED:20250419T155833Z
UID:80225-1745323200-1745362800@spacepolicyonline.com
SUMMARY:EARTHSPACE 2025 (Earthlight Foundation)\, Apr 22\, 2025\, virtual\, 12:00-1:30 pm ET
DESCRIPTION:The Earthlight Foundation will hold a webinar\, EarthSpace 2025\, on April 22\, 2025\, which is Earth Day. \nMore information is in the April 18 emailed announcement from Rick Tumlinson\, which says: \n\n\n\n\n\nHey \,\nThink about your mother…\nNo\, not the one who raised you. The other one\, Mother Earth. \nShe’s the only home we’ve ever had. \nAnd right now\, she needs us more than ever. \nThat’s why this Earth Day\, I am inviting you to a live webinar that goes far beyond the usual “go green” talk. \nJoin us for:\n EarthSpace 2025\nA live online event happening Tuesday\, April 22\, 2025\n12:00–1:30 PM Eastern \n\n\n\n\n\n\n\n\nJoin The Conversation Here\n\n\n\n\n\n\n\n\nThis free Earthlight Foundation webinar brings together space experts\, Earth advocates\, and future-focused thinkers to explore one big idea: \nWhat if space is the key to saving Earth? \nThis Earth Day\, instead of just planting a tree or reposting a quote\, you’re invited to something that might actually change how you see the future. \nThis isn’t just another Earth Day webinar. \nIt’s a bold conversation about how space could help save the Earth and how you can be part of it. \nYou’ll hear from big thinkers and groundbreakers who are reshaping the way we care for our planet and explore the stars: \n Frank White – Author of The Overview Effect\n Morgan Goodwin – Planetary Sunshade Foundation\n Ryan Olliges – Elevated Materials \nI’ll be co-hosting alongside Sarah Kalmeta and Robert Katz. \nEarth and space are not separate. They’re part of the same system. And if we get this right\, what we do out there could help fix what’s broken down here. \n You’ll learn how space tech is already healing the planet\n You’ll discover new ideas that go way beyond recycling and greenwashing\n You’ll walk away with a fresh sense of what’s possible and what’s next \nThis is your chance to be part of the conversation live\, ask questions\, and connect with others who believe Earth’s future is worth fighting for. \n Click the button below to save your seat for the FREE Earth Day webinar! Don’t wait\, spots will fill up fast. \n\n\n\n\n\n\n\n\nSecure Your Spot Now\n\n\n\n\n\n\n\n\n Heads up: Zoom does limit the number of live attendees\, so if you want to be part of the Q&A and join the conversation in real time\, you’ll need to pre-register now to lock in your spot. \nUP\,\nRick Tumlinson\nFounder\, EarthLight Foundation \nP.S. We’re dropping a secret announcement about this year’s New Worlds Conference with a special bonus for those on the call. If you’re thinking about coming to New Worlds 2025… you’ll want to be on this webinar. \n\n\n\n\n\n 
URL:https://spacepolicyonline.com/events/earthspace2025-earthlight-foundation-apr-22-2025-virtual-1200-130-pm-et/
END:VEVENT
END:VCALENDAR