BEGIN:VCALENDAR
VERSION:2.0
PRODID:-//SpacePolicyOnline.com - ECPv6.15.11//NONSGML v1.0//EN
CALSCALE:GREGORIAN
METHOD:PUBLISH
X-WR-CALNAME:SpacePolicyOnline.com
X-ORIGINAL-URL:https://spacepolicyonline.com
X-WR-CALDESC:Events for SpacePolicyOnline.com
REFRESH-INTERVAL;VALUE=DURATION:PT1H
X-Robots-Tag:noindex
X-PUBLISHED-TTL:PT1H
BEGIN:VTIMEZONE
TZID:America/New_York
BEGIN:DAYLIGHT
TZOFFSETFROM:-0500
TZOFFSETTO:-0400
TZNAME:EDT
DTSTART:20160313T070000
END:DAYLIGHT
BEGIN:STANDARD
TZOFFSETFROM:-0400
TZOFFSETTO:-0500
TZNAME:EST
DTSTART:20161106T060000
END:STANDARD
BEGIN:DAYLIGHT
TZOFFSETFROM:-0500
TZOFFSETTO:-0400
TZNAME:EDT
DTSTART:20170312T070000
END:DAYLIGHT
BEGIN:STANDARD
TZOFFSETFROM:-0400
TZOFFSETTO:-0500
TZNAME:EST
DTSTART:20171105T060000
END:STANDARD
BEGIN:DAYLIGHT
TZOFFSETFROM:-0500
TZOFFSETTO:-0400
TZNAME:EDT
DTSTART:20180311T070000
END:DAYLIGHT
BEGIN:STANDARD
TZOFFSETFROM:-0400
TZOFFSETTO:-0500
TZNAME:EST
DTSTART:20181104T060000
END:STANDARD
END:VTIMEZONE
BEGIN:VEVENT
DTSTART;TZID=America/New_York:20170118T000000
DTEND;TZID=America/New_York:20170118T000000
DTSTAMP:20260421T061227
CREATED:20170108T124452Z
LAST-MODIFIED:20170108T124452Z
UID:8665-1484697600-1484697600@spacepolicyonline.com
SUMMARY:ESA DG Annual Press Breakfast\, Jan 2017\, Paris
DESCRIPTION:European Space Agency (ESA) Director General (DG) Jan Woerner will hold ESA’s annual press breakfast on January 18\, 2017 to discuss ESA’s activities.  The event is at ESA HQ in Paris\, FR from 09:00-11:00 CET (3:00-5:00 am EST).   \nIt will be livestreamed \nA briefing on ESA’s Small Geostationary Platform (SmallGEO) will follow at 11:30 CET (5:30 am EST).
URL:https://spacepolicyonline.com/events/esa-dg-annual-press-breakfast-jan-2017-paris/
END:VEVENT
END:VCALENDAR