BEGIN:VCALENDAR
VERSION:2.0
PRODID:-//SpacePolicyOnline.com - ECPv6.15.11//NONSGML v1.0//EN
CALSCALE:GREGORIAN
METHOD:PUBLISH
X-WR-CALNAME:SpacePolicyOnline.com
X-ORIGINAL-URL:https://spacepolicyonline.com
X-WR-CALDESC:Events for SpacePolicyOnline.com
REFRESH-INTERVAL;VALUE=DURATION:PT1H
X-Robots-Tag:noindex
X-PUBLISHED-TTL:PT1H
BEGIN:VTIMEZONE
TZID:America/New_York
BEGIN:DAYLIGHT
TZOFFSETFROM:-0500
TZOFFSETTO:-0400
TZNAME:EDT
DTSTART:20240310T070000
END:DAYLIGHT
BEGIN:STANDARD
TZOFFSETFROM:-0400
TZOFFSETTO:-0500
TZNAME:EST
DTSTART:20241103T060000
END:STANDARD
BEGIN:DAYLIGHT
TZOFFSETFROM:-0500
TZOFFSETTO:-0400
TZNAME:EDT
DTSTART:20250309T070000
END:DAYLIGHT
BEGIN:STANDARD
TZOFFSETFROM:-0400
TZOFFSETTO:-0500
TZNAME:EST
DTSTART:20251102T060000
END:STANDARD
BEGIN:DAYLIGHT
TZOFFSETFROM:-0500
TZOFFSETTO:-0400
TZNAME:EDT
DTSTART:20260308T070000
END:DAYLIGHT
BEGIN:STANDARD
TZOFFSETFROM:-0400
TZOFFSETTO:-0500
TZNAME:EST
DTSTART:20261101T060000
END:STANDARD
END:VTIMEZONE
BEGIN:VEVENT
DTSTART;TZID=America/New_York:20250109T040000
DTEND;TZID=America/New_York:20250109T230000
DTSTAMP:20260420T100949
CREATED:20241222T194319Z
LAST-MODIFIED:20241222T194319Z
UID:76797-1736395200-1736463600@spacepolicyonline.com
SUMMARY:ESA DIRECTOR GENERAL'S ANNUAL PRESS BRIEFING\, Jan 9\, 2025\, Paris\, FR\, 4:00 am ET (10:00 CET)
DESCRIPTION:ESA Director General Josef Aschbacher will hold his annual press briefing at ESA HQ in Paris\, FR on January 9\, 2025 at 10:00 Central European Time (4:00 am EST).  It will be webcast on ESA Web TV.  A replay is usually available later the same day. \n 
URL:https://spacepolicyonline.com/events/esa-director-generals-annual-press-briefing-jan-9-2025-paris-fr-400-am-et-1000-cet/
END:VEVENT
END:VCALENDAR