BEGIN:VCALENDAR
VERSION:2.0
PRODID:-//SpacePolicyOnline.com - ECPv6.15.11//NONSGML v1.0//EN
CALSCALE:GREGORIAN
METHOD:PUBLISH
X-WR-CALNAME:SpacePolicyOnline.com
X-ORIGINAL-URL:https://spacepolicyonline.com
X-WR-CALDESC:Events for SpacePolicyOnline.com
REFRESH-INTERVAL;VALUE=DURATION:PT1H
X-Robots-Tag:noindex
X-PUBLISHED-TTL:PT1H
BEGIN:VTIMEZONE
TZID:America/New_York
BEGIN:DAYLIGHT
TZOFFSETFROM:-0500
TZOFFSETTO:-0400
TZNAME:EDT
DTSTART:20220313T070000
END:DAYLIGHT
BEGIN:STANDARD
TZOFFSETFROM:-0400
TZOFFSETTO:-0500
TZNAME:EST
DTSTART:20221106T060000
END:STANDARD
BEGIN:DAYLIGHT
TZOFFSETFROM:-0500
TZOFFSETTO:-0400
TZNAME:EDT
DTSTART:20230312T070000
END:DAYLIGHT
BEGIN:STANDARD
TZOFFSETFROM:-0400
TZOFFSETTO:-0500
TZNAME:EST
DTSTART:20231105T060000
END:STANDARD
BEGIN:DAYLIGHT
TZOFFSETFROM:-0500
TZOFFSETTO:-0400
TZNAME:EDT
DTSTART:20240310T070000
END:DAYLIGHT
BEGIN:STANDARD
TZOFFSETFROM:-0400
TZOFFSETTO:-0500
TZNAME:EST
DTSTART:20241103T060000
END:STANDARD
END:VTIMEZONE
BEGIN:VEVENT
DTSTART;TZID=America/New_York:20230406T080000
DTEND;TZID=America/New_York:20230406T230000
DTSTAMP:20260425T160444
CREATED:20230329T195824Z
LAST-MODIFIED:20230329T195824Z
UID:61011-1680768000-1680822000@spacepolicyonline.com
SUMMARY:ESA PRE-LAUNCH BFG FOR JUICE LAUNCH\, Apr 6\, 2023\, virtual\, 8:00-9:00 am ET (ESA TV)
DESCRIPTION:On April 6\, 2023\, the European Space Agency will hold a virtual pre-launch briefing for the Jupiter Icy Moons Explorer (JUICE) mission scheduled for launch on an Ariane 5 rocket from Kourou\, French Guiana on April 13. See our separate Calendar entry for launch information. \nThe briefing in English will take place at 14:00-15:00 Central European Summer Time (8:00-9:00 am Eastern Daylight Time) and air on ESA TV. \nParticipants are: \n\nOlivier Witasse\, Juice Project Scientist\, ESA\nRuedeger Albat\, Head of Ariane 5 Programme\, ESA\nAlessandro Atzei\, Payload System Engineer\, ESA\n\nAdditional briefings in French\, German and Italian will follow with other participants. They will not air on ESA TV.  See the ESA press release for more information. \n 
URL:https://spacepolicyonline.com/events/esa-pre-launch-bfg-for-juice-launch-apr-6-2023-virtual-800-900-am-et-esa-tv/
END:VEVENT
END:VCALENDAR