BEGIN:VCALENDAR
VERSION:2.0
PRODID:-//SpacePolicyOnline.com - ECPv6.15.11//NONSGML v1.0//EN
CALSCALE:GREGORIAN
METHOD:PUBLISH
X-WR-CALNAME:SpacePolicyOnline.com
X-ORIGINAL-URL:https://spacepolicyonline.com
X-WR-CALDESC:Events for SpacePolicyOnline.com
REFRESH-INTERVAL;VALUE=DURATION:PT1H
X-Robots-Tag:noindex
X-PUBLISHED-TTL:PT1H
BEGIN:VTIMEZONE
TZID:America/New_York
BEGIN:DAYLIGHT
TZOFFSETFROM:-0500
TZOFFSETTO:-0400
TZNAME:EDT
DTSTART:20230312T070000
END:DAYLIGHT
BEGIN:STANDARD
TZOFFSETFROM:-0400
TZOFFSETTO:-0500
TZNAME:EST
DTSTART:20231105T060000
END:STANDARD
BEGIN:DAYLIGHT
TZOFFSETFROM:-0500
TZOFFSETTO:-0400
TZNAME:EDT
DTSTART:20240310T070000
END:DAYLIGHT
BEGIN:STANDARD
TZOFFSETFROM:-0400
TZOFFSETTO:-0500
TZNAME:EST
DTSTART:20241103T060000
END:STANDARD
BEGIN:DAYLIGHT
TZOFFSETFROM:-0500
TZOFFSETTO:-0400
TZNAME:EDT
DTSTART:20250309T070000
END:DAYLIGHT
BEGIN:STANDARD
TZOFFSETFROM:-0400
TZOFFSETTO:-0500
TZNAME:EST
DTSTART:20251102T060000
END:STANDARD
END:VTIMEZONE
BEGIN:VEVENT
DTSTART;TZID=America/New_York:20241128T050000
DTEND;TZID=America/New_York:20241128T230000
DTSTAMP:20260421T130658
CREATED:20241123T190135Z
LAST-MODIFIED:20241123T194036Z
UID:76102-1732770000-1732834800@spacepolicyonline.com
SUMMARY:ESA PRE-LAUNCH MEDIA BRIEFING FOR PROBA-3\, Nov 28\, 2024\, virtual\, 5:00 am ET (11:00 am  CET)
DESCRIPTION:ESA will hold a pre-launch media briefing on November 28\, 2024 at 11:00 am Central European Time (5:00 am Eastern Standard Time) for the launch of Proba-3\, which is scheduled for December 4\, 2024 on India’s PSLV rocket from Sriharikota\, India. \nThis briefing is in English and will be recorded and available on ESA’s website. \nQuestion and answer sessions in other languages also are scheduled the same day.
URL:https://spacepolicyonline.com/events/esa-pre-launch-media-briefing-for-proba-3-nov-28-2024-virtual-500-am-et-1100-am-cet/
END:VEVENT
END:VCALENDAR