BEGIN:VCALENDAR
VERSION:2.0
PRODID:-//SpacePolicyOnline.com - ECPv6.15.11//NONSGML v1.0//EN
CALSCALE:GREGORIAN
METHOD:PUBLISH
X-WR-CALNAME:SpacePolicyOnline.com
X-ORIGINAL-URL:https://spacepolicyonline.com
X-WR-CALDESC:Events for SpacePolicyOnline.com
REFRESH-INTERVAL;VALUE=DURATION:PT1H
X-Robots-Tag:noindex
X-PUBLISHED-TTL:PT1H
BEGIN:VTIMEZONE
TZID:America/New_York
BEGIN:DAYLIGHT
TZOFFSETFROM:-0500
TZOFFSETTO:-0400
TZNAME:EDT
DTSTART:20230312T070000
END:DAYLIGHT
BEGIN:STANDARD
TZOFFSETFROM:-0400
TZOFFSETTO:-0500
TZNAME:EST
DTSTART:20231105T060000
END:STANDARD
BEGIN:DAYLIGHT
TZOFFSETFROM:-0500
TZOFFSETTO:-0400
TZNAME:EDT
DTSTART:20240310T070000
END:DAYLIGHT
BEGIN:STANDARD
TZOFFSETFROM:-0400
TZOFFSETTO:-0500
TZNAME:EST
DTSTART:20241103T060000
END:STANDARD
BEGIN:DAYLIGHT
TZOFFSETFROM:-0500
TZOFFSETTO:-0400
TZNAME:EDT
DTSTART:20250309T070000
END:DAYLIGHT
BEGIN:STANDARD
TZOFFSETFROM:-0400
TZOFFSETTO:-0500
TZNAME:EST
DTSTART:20251102T060000
END:STANDARD
END:VTIMEZONE
BEGIN:VEVENT
DTSTART;TZID=America/New_York:20241013T160000
DTEND;TZID=America/New_York:20241013T230000
DTSTAMP:20260421T065011
CREATED:20241003T160140Z
LAST-MODIFIED:20241013T145430Z
UID:74751-1728835200-1728860400@spacepolicyonline.com
SUMMARY:EUROPA CLIPPER PRE-LAUNCH TELECONFERENCE\, Oct 13\, 2024\, 4:15 pm ET
DESCRIPTION:Update\, October 12\, 9:45 pm ET: NASA has issued a new press release with updated information.  The pre-launch teleconference will be at 4:15 pm ET on October 13 with the same participants. \nUpdate\, October 12: 5:35 pm ET:  NASA just emailed that today’s briefings are moving to tomorrow “for now.” \nUpdate\, October 11:  NASA is targeting Sunday\, October 13\, for the Europa Clipper launch and sent out a media advisory with new times for the pre-launch briefing (Oct 12\, 3:30 pm ET)\, science briefing (Oct 12\, 4:45 pm ET) and post-launch briefing (Oct 13\, 12:30 pm ET)\, but all of these times are tentative as of 2:00 pm October 11. \nParticipants in the pre-launch teleconference are: \n\nNASA Associate Administrator Jim Free\nSandra Connelly\, deputy associate administrator\, Science Mission Directorate\, NASA Headquarters\nJordan Evans\, project manager\, Europa Clipper\, NASA’s Jet Propulsion Laboratory\nTim Dunn\, launch director\, NASA’s Launch Services Program\nJulianna Scheiman\, director\, NASA Science Missions\, SpaceX\nMike McAleenan\, launch weather officer\, 45th Weather Squadron\, U.S. Space Force\n\nCoverage of the prelaunch teleconference will stream live on the agency’s website. \nUpdate\, October 6:  The launch has been postponed\, and the associated pre-launch events as well\, because of Hurricane Milton. \nOriginal Entry: NASA will hold the pre-launch news conference for the Europa Clipper mission on October 9\, 2024 at 3:30 pm ET. \nThe launch of Europa Clipper is scheduled for October 10 at 12:31 pm ET.  See our separate entry for launch information. \nThe briefing follows the Flight Readiness Review (FRR) and the time could change. \nCoverage of the prelaunch news conference will stream live on NASA+\, the agency’s website\, the NASA app\, and YouTube. \nParticipants are: \n\nNASA Associate Administrator Jim Free\nSandra Connelly\, deputy associate administrator\, Science Mission Directorate\, NASA Headquarters\nTim Dunn\, launch director\, NASA’s Launch Services Program\nJulianna Scheiman\, director\, NASA Science Missions\, SpaceX\nJordan Evans\, project manager\, Europa Clipper\, NASA JPL\nMike McAleenan\, launch weather officer\, 45th Weather Squadron\, U.S. Space Force\n\n 
URL:https://spacepolicyonline.com/events/europa-clipper-pre-launch-news-conference-oct-9-2024-ksc-330-pm-et/
END:VEVENT
END:VCALENDAR