BEGIN:VCALENDAR
VERSION:2.0
PRODID:-//SpacePolicyOnline.com - ECPv6.15.11//NONSGML v1.0//EN
CALSCALE:GREGORIAN
METHOD:PUBLISH
X-WR-CALNAME:SpacePolicyOnline.com
X-ORIGINAL-URL:https://spacepolicyonline.com
X-WR-CALDESC:Events for SpacePolicyOnline.com
REFRESH-INTERVAL;VALUE=DURATION:PT1H
X-Robots-Tag:noindex
X-PUBLISHED-TTL:PT1H
BEGIN:VTIMEZONE
TZID:America/New_York
BEGIN:DAYLIGHT
TZOFFSETFROM:-0500
TZOFFSETTO:-0400
TZNAME:EDT
DTSTART:20200308T070000
END:DAYLIGHT
BEGIN:STANDARD
TZOFFSETFROM:-0400
TZOFFSETTO:-0500
TZNAME:EST
DTSTART:20201101T060000
END:STANDARD
BEGIN:DAYLIGHT
TZOFFSETFROM:-0500
TZOFFSETTO:-0400
TZNAME:EDT
DTSTART:20210314T070000
END:DAYLIGHT
BEGIN:STANDARD
TZOFFSETFROM:-0400
TZOFFSETTO:-0500
TZNAME:EST
DTSTART:20211107T060000
END:STANDARD
BEGIN:DAYLIGHT
TZOFFSETFROM:-0500
TZOFFSETTO:-0400
TZNAME:EDT
DTSTART:20220313T070000
END:DAYLIGHT
BEGIN:STANDARD
TZOFFSETFROM:-0400
TZOFFSETTO:-0500
TZNAME:EST
DTSTART:20221106T060000
END:STANDARD
END:VTIMEZONE
BEGIN:VEVENT
DTSTART;TZID=America/New_York:20211005T033000
DTEND;TZID=America/New_York:20211007T230000
DTSTAMP:20260420T225126
CREATED:20211001T131140Z
LAST-MODIFIED:20211003T181148Z
UID:47059-1633404600-1633647600@spacepolicyonline.com
SUMMARY:EUROPEAN SPACE SOLUTIONS FOR EUROPEAN AMBITIONS (ESPI)\, Oct 5-7\, 2021\, hybrid\, 9:30 am ET
DESCRIPTION:The European Space Policy Institute (ESPI) will hold its 15th Autumn Conference from October 5-7\, 2021 with one session each day beginning at 1530 Central European Summer Time (9:30 am Eastern Daylight Time) \nThe theme is “European Space Solutions for European Ambitions: Why Does Europe Need European Satellites.” \nThe three sessions (one per day) are: \n\nSpace for Green Deal\, Green Deal in space\nWhich European space infrastructure for the new digital age\nWhich space industrial strategy to face new global challenges\n\nMore information is on the event’s website. \nSpeakers will be in-person at ESPI’s headquarters in Vienna\, Austria\, while the audience will be virtual with live-interaction between the two. \n 
URL:https://spacepolicyonline.com/events/european-space-solutions-for-european-ambitions-espi-oct-5-7-2021-930-am-et/
END:VEVENT
END:VCALENDAR