BEGIN:VCALENDAR
VERSION:2.0
PRODID:-//SpacePolicyOnline.com - ECPv6.15.11//NONSGML v1.0//EN
CALSCALE:GREGORIAN
METHOD:PUBLISH
X-WR-CALNAME:SpacePolicyOnline.com
X-ORIGINAL-URL:https://spacepolicyonline.com
X-WR-CALDESC:Events for SpacePolicyOnline.com
REFRESH-INTERVAL;VALUE=DURATION:PT1H
X-Robots-Tag:noindex
X-PUBLISHED-TTL:PT1H
BEGIN:VTIMEZONE
TZID:America/New_York
BEGIN:DAYLIGHT
TZOFFSETFROM:-0500
TZOFFSETTO:-0400
TZNAME:EDT
DTSTART:20200308T070000
END:DAYLIGHT
BEGIN:STANDARD
TZOFFSETFROM:-0400
TZOFFSETTO:-0500
TZNAME:EST
DTSTART:20201101T060000
END:STANDARD
BEGIN:DAYLIGHT
TZOFFSETFROM:-0500
TZOFFSETTO:-0400
TZNAME:EDT
DTSTART:20210314T070000
END:DAYLIGHT
BEGIN:STANDARD
TZOFFSETFROM:-0400
TZOFFSETTO:-0500
TZNAME:EST
DTSTART:20211107T060000
END:STANDARD
BEGIN:DAYLIGHT
TZOFFSETFROM:-0500
TZOFFSETTO:-0400
TZNAME:EDT
DTSTART:20220313T070000
END:DAYLIGHT
BEGIN:STANDARD
TZOFFSETFROM:-0400
TZOFFSETTO:-0500
TZNAME:EST
DTSTART:20221106T060000
END:STANDARD
END:VTIMEZONE
BEGIN:VEVENT
DTSTART;TZID=America/New_York:20210311T150000
DTEND;TZID=America/New_York:20210311T230000
DTSTAMP:20260419T230900
CREATED:20210308T153658Z
LAST-MODIFIED:20210308T153658Z
UID:42168-1615474800-1615503600@spacepolicyonline.com
SUMMARY:EVOLUTION OF U.S. SPACE FORCE AND TRAJECTORIES FORWARD\, WITH LTG NINA ARMAGNO\, Mar 11\, 2021\, virtual\, 3:00 pm ET
DESCRIPTION:The University of Washington’s Space Policy and Research Center (SPARC) will hold a webinar on March 11\, 2021 from 12:00-1:00 pm Pacific Standard Time (3:00-4:00 pm Eastern). \nThe speaker is Lt. Gen. Nina Armagno\, Director of Staff\, HQ U.S. Space Force. Her topic is: Evolution of the U.S. Space Force and Trajectories Forward. \nMore information is on the event’s website.
URL:https://spacepolicyonline.com/events/evolution-of-u-s-space-force-and-trajectories-forward-with-ltg-nina-armagno-mar-11-2021-virtual-300-pm-et/
END:VEVENT
END:VCALENDAR