BEGIN:VCALENDAR
VERSION:2.0
PRODID:-//SpacePolicyOnline.com - ECPv6.15.11//NONSGML v1.0//EN
CALSCALE:GREGORIAN
METHOD:PUBLISH
X-WR-CALNAME:SpacePolicyOnline.com
X-ORIGINAL-URL:https://spacepolicyonline.com
X-WR-CALDESC:Events for SpacePolicyOnline.com
REFRESH-INTERVAL;VALUE=DURATION:PT1H
X-Robots-Tag:noindex
X-PUBLISHED-TTL:PT1H
BEGIN:VTIMEZONE
TZID:America/New_York
BEGIN:DAYLIGHT
TZOFFSETFROM:-0500
TZOFFSETTO:-0400
TZNAME:EDT
DTSTART:20250309T070000
END:DAYLIGHT
BEGIN:STANDARD
TZOFFSETFROM:-0400
TZOFFSETTO:-0500
TZNAME:EST
DTSTART:20251102T060000
END:STANDARD
BEGIN:DAYLIGHT
TZOFFSETFROM:-0500
TZOFFSETTO:-0400
TZNAME:EDT
DTSTART:20260308T070000
END:DAYLIGHT
BEGIN:STANDARD
TZOFFSETFROM:-0400
TZOFFSETTO:-0500
TZNAME:EST
DTSTART:20261101T060000
END:STANDARD
BEGIN:DAYLIGHT
TZOFFSETFROM:-0500
TZOFFSETTO:-0400
TZNAME:EDT
DTSTART:20270314T070000
END:DAYLIGHT
BEGIN:STANDARD
TZOFFSETFROM:-0400
TZOFFSETTO:-0500
TZNAME:EST
DTSTART:20271107T060000
END:STANDARD
END:VTIMEZONE
BEGIN:VEVENT
DTSTART;TZID=America/New_York:20260430T103000
DTEND;TZID=America/New_York:20260430T230000
DTSTAMP:20260423T033202
CREATED:20260419T142528Z
LAST-MODIFIED:20260419T142528Z
UID:88389-1777545000-1777590000@spacepolicyonline.com
SUMMARY:FCC OPEN MEETING INCL SPECTRUM SHARING FOR SATELLITE BROADBAND\, Apr 30\, 2026\, DC/online\, 10:30 am-12:30 pm ET
DESCRIPTION:The Federal Communications Commission (FCC) will hold its next open meeting on April 30\, 2026 from 10:30 am-12:30 pm ET at its offices at 45 L St.\, N.E.\, Washington\, DC and online. \nOne of the topics under consideration is: \nModernizing Spectrum Sharing for Satellite Broadband – The Commission will consider a Report and Order that would promote efficient spectrum sharing between geostationary and non-geostationary satellite systems.  To take account of today’s satellite technology and operations and to promote expanded services to American consumers\, the item would update the decades-old framework for how non-geostationary and geostationary satellite systems share spectrum.  (SB Docket No. 25-157) \nMore information is on the FCC’s website.
URL:https://spacepolicyonline.com/events/fcc-open-meeting-incl-spectrum-sharing-for-satellite-broadband-apr-30-2026-dc-online-1030-am-1230-pm-et/
END:VEVENT
END:VCALENDAR