BEGIN:VCALENDAR
VERSION:2.0
PRODID:-//SpacePolicyOnline.com - ECPv6.15.11//NONSGML v1.0//EN
CALSCALE:GREGORIAN
METHOD:PUBLISH
X-WR-CALNAME:SpacePolicyOnline.com
X-ORIGINAL-URL:https://spacepolicyonline.com
X-WR-CALDESC:Events for SpacePolicyOnline.com
REFRESH-INTERVAL;VALUE=DURATION:PT1H
X-Robots-Tag:noindex
X-PUBLISHED-TTL:PT1H
BEGIN:VTIMEZONE
TZID:America/New_York
BEGIN:DAYLIGHT
TZOFFSETFROM:-0500
TZOFFSETTO:-0400
TZNAME:EDT
DTSTART:20200308T070000
END:DAYLIGHT
BEGIN:STANDARD
TZOFFSETFROM:-0400
TZOFFSETTO:-0500
TZNAME:EST
DTSTART:20201101T060000
END:STANDARD
BEGIN:DAYLIGHT
TZOFFSETFROM:-0500
TZOFFSETTO:-0400
TZNAME:EDT
DTSTART:20210314T070000
END:DAYLIGHT
BEGIN:STANDARD
TZOFFSETFROM:-0400
TZOFFSETTO:-0500
TZNAME:EST
DTSTART:20211107T060000
END:STANDARD
BEGIN:DAYLIGHT
TZOFFSETFROM:-0500
TZOFFSETTO:-0400
TZNAME:EDT
DTSTART:20220313T070000
END:DAYLIGHT
BEGIN:STANDARD
TZOFFSETFROM:-0400
TZOFFSETTO:-0500
TZNAME:EST
DTSTART:20221106T060000
END:STANDARD
END:VTIMEZONE
BEGIN:VEVENT
DTSTART;TZID=America/New_York:20210217T100000
DTEND;TZID=America/New_York:20210217T230000
DTSTAMP:20260419T190949
CREATED:20210207T142336Z
LAST-MODIFIED:20210207T142839Z
UID:41332-1613556000-1613602800@spacepolicyonline.com
SUMMARY:FEATURED SPEAKER: ESA DG JAN WOERNER (Space Fndtn)\, Feb 17\, 2021\, virtual\, 10:00 am ET
DESCRIPTION:The Space Foundation will hold another in its Space Symposium 365 series on February 17\, 2021 at 10:00 am ET. \nEuropean Space Agency Director General Jan Woerner will be interviewed by Washington Post reporter Chris Davenport. \nMore information is on the event’s website.
URL:https://spacepolicyonline.com/events/featured-speaker-esa-dg-jan-woerner-space-fndtn-feb-17-2021-virtual-1000-am-et/
END:VEVENT
END:VCALENDAR